BEGIN:VCALENDAR
VERSION:2.0
PRODID:-//ChamberMaster//Event Calendar 2.0//EN
METHOD:PUBLISH
X-PUBLISHED-TTL:P3D
REFRESH-INTERVAL:P3D
CALSCALE:GREGORIAN
BEGIN:VEVENT
DTSTART:20220518T163000Z
DTEND:20220518T180000Z
X-MICROSOFT-CDO-ALLDAYEVENT:FALSE
SUMMARY:2021 Salute to the Military presented by Valero Corpus Christi Refineries
DESCRIPTION:Join the United Corpus Christi Chamber of Commerce for our Salute to the Military Luncheon\, presented by Valero Corpus Christi Refineries\, on Wednesday\, May 18th.  This annual tradition provides an opportunity to show support for our local military installations and the active-duty military personnel\, veterans\, and their families that call our community home. This event also enables us to publicly recognize the collaborative efforts made by our community business leaders\, elected officials\, and military leaders as we work together to strengthen the military environment in South Texas. \n\n\n\nWe are proud to announce Lieutenant General Larry Wyche\, retired United States Army\, as the Keynote Speaker for this event.  \n\n\n\nThank you for our 2021 Salute to the Military Sponsors:\n\nPresenting: Valero Corpus Christi Refineries\n\nPlatinum: Christus Spohn Health Systems\, Corpus Christi Medical Center\n\nGold: Port Corpus Christi\n\nSilver: D&C Fence Company\, First Community Bank\, Geico\, PAM Health Rehabilitation Hospital of Corpus Christi\n\nBronze: CCISD\, City of Corpus Christi\; Texas A&M University Corpus Christi\, UniqueHR\n\nMultimedia Sponsor: Turner Ramierz\n\nRegistration Sponsor: NEC CO-OP ENERGY\n\n2021 Signature Events Season Pass Holders:  KCS Public Relations\, NuStar\, OmniSource\, LLC\, Padre Island Business Association\, RBFCU\, Shoreline Title\, State Representative Todd Hunter\, Stewart Title Company\, Texas State Aquarium\, USS Lexington Museum on the Bay\, \, ZJZ Hospitality Inc.
X-ALT-DESC;FMTTYPE=text/html:<span style="font-size:14px\;"><span style="font-family:arial\;"><span style="border:none windowtext 1.0pt\;padding:0in\;"><span style="color:#3F3F3F\;">Join the United Corpus Christi Chamber of Commerce for our Salute to the Military Luncheon\, presented by Valero Corpus Christi Refineries\, on Wednesday\, May 18th.&nbsp\;&nbsp\;</span></span><span style="border:none windowtext 1.0pt\;padding:0in\;background:white\;"><span style="color:#1D2129\;">This annual tradition provides an opportunity to show support for our local military installations and the active-duty military personnel\, veterans\, and their families that call our community home. This event also enables us to publicly recognize the collaborative efforts made by our community business leaders\, elected officials\, and military leaders as we work together to strengthen the military environment in South Texas. </span></span><br />\n<br />\n<span style="border:none windowtext 1.0pt\;padding:0in\;"><span style="color:#3F3F3F\;">We are proud to announce <strong>Lieutenant General&nbsp\;</strong></span></span></span></span><b style="color: rgb(32\, 33\, 34)\; font-family: sans-serif\; font-size: 14px\; background-color: rgb(255\, 255\, 255)\;"><strong>L</strong>arry Wyche</b><span style="color: rgb(32\, 33\, 34)\; font-family: sans-serif\; font-size: 14px\; background-color: rgb(255\, 255\, 255)\;">\, retired United States Army\,&nbsp\;</span><span style="font-size:14px\;"><span style="font-family:arial\;"><span style="border:none windowtext 1.0pt\;padding:0in\;"><span style="color:#3F3F3F\;">as the Keynote Speaker for this event.&nbsp\;&nbsp\;</span></span><br />\n<br />\n<strong>Thank you for our 2021 Salute to the Military Sponsors:</strong><br />\n<u>Presenting</u>: Valero Corpus Christi Refineries<br />\n<u>Platinum</u>: </span></span><span style="color: rgb(51\, 51\, 51)\; font-family: arial\; font-size: 14px\; background-color: rgb(255\, 255\, 255)\;">Christus Spohn Health Systems\,&nbsp\;</span><span style="font-size:14px\;"><span style="font-family:arial\;">Corpus Christi Medical Center<br />\n<u>Gold</u>: Port Corpus Christi<br />\n<u>Silver</u>: D&amp\;C Fence Company\, First Community Bank\, Geico\,&nbsp\;PAM Health Rehabilitation Hospital of Corpus Christi</span></span><br />\n<span style="font-size:14px\;"><span style="font-family:arial\;"><u>Bronze</u>: CCISD\, City of Corpus Christi\; Texas A&amp\;M University Corpus Christi\, UniqueHR<br />\n<u>Multimedia Sponsor</u>: Turner Ramierz<br />\n<u>Registration Sponsor</u>: NEC CO-OP ENERGY<br />\n<u>2021 Signature Events Season Pass Holders</u>: &nbsp\;KCS Public Relations\, NuStar\, OmniSource\, LLC\, Padre Island Business Association\, RBFCU\, Shoreline Title\, State Representative Todd Hunter\, Stewart Title Company\, Texas State Aquarium\, USS Lexington Museum on the Bay\, \, ZJZ Hospitality Inc.</span></span>
LOCATION:Solomon Ortiz Center 402 Harbor Drive Corpus Christi\, TX 78401
UID:e.1866.27433
SEQUENCE:3
DTSTAMP:20260423T121715Z
URL:https://chamber.unitedcorpuschristi.org/events/details/2021-salute-to-the-military-presented-by-valero-corpus-christi-refineries-27433
END:VEVENT

END:VCALENDAR
