BEGIN:VCALENDAR
VERSION:2.0
PRODID:-//ChamberMaster//Event Calendar 2.0//EN
METHOD:PUBLISH
X-PUBLISHED-TTL:P3D
REFRESH-INTERVAL:P3D
CALSCALE:GREGORIAN
BEGIN:VEVENT
DTSTART:20220507T130000Z
DTEND:20220507T153000Z
X-MICROSOFT-CDO-ALLDAYEVENT:FALSE
SUMMARY:17th Annual CASA Superhero 5K Run/Walk
DESCRIPTION:We are back at Heritage Park bringing together a REMARKABLE group! To see if we could become something more...Your support and funding gives children in foster care an ADVOCATE\, a voice to help FIGHT battles\, help HEAL loss and to show children and families that HUMANITY still exist. This is a 5K unlike any other! You can dress as your favorite Superhero or Villain\, kids can enjoy games\, yoga prior to race\, photo opportunity with "real" Superhero's and much more! Plus a super charged costume contest with prizes for children\, teens\, adults and groups!\n\n\n\nTrophies given to Overall Male\, Overall Female\, Masters Male\, Masters Female\, Grand Masters Male and Grand Masters Female. Medals given to those who place 1st\, 2nd and 3rd in their age category.\n\n\n\nSponsorship opportunities are available and online registration is now open! Visit our website for details: \n\nhttps://coastalbendcasa.org/2022-casa-superhero-5k\n\n\n\nAll proceeds benefit CASA of the Coastal Bend\, a non-profit organization that trains volunteers to advocate for the best interest of children in Nueces and Aransas county foster care.
X-ALT-DESC;FMTTYPE=text/html:<div>We are back at Heritage Park bringing together a REMARKABLE group! To see if we could become something more...Your support and funding gives children in foster care an ADVOCATE\, a voice to help FIGHT battles\, help HEAL loss and to show children and families that HUMANITY still exist. This is a 5K unlike any other! You can dress as your favorite Superhero or Villain\, kids can enjoy games\, yoga prior to race\, photo opportunity with &quot\;real&quot\; Superhero&#39\;s and much more! Plus a super charged costume contest with prizes for children\, teens\, adults and groups!<br />\n<br />\nTrophies given to Overall Male\, Overall Female\, Masters Male\, Masters Female\, Grand Masters Male and Grand Masters Female. Medals given to those who place 1st\, 2nd and 3rd in their age category.</div>\n\n<div><br />\nSponsorship opportunities are available and online registration is now open! Visit our website for details:&nbsp\;</div>\n\n<div><a class="oajrlxb2 g5ia77u1 qu0x051f esr5mh6w e9989ue4 r7d6kgcz rq0escxv nhd2j8a9 nc684nl6 p7hjln8o kvgmc6g5 cxmmr5t8 oygrvhab hcukyx3x jb3vyjys rz4wbd8a qt6c0cv9 a8nywdso i1ao9s8h esuyzwwr f1sip0of lzcic4wl gpro0wi8 py34i1dx" href="https://coastalbendcasa.org/2022-casa-superhero-5k?fbclid=IwAR0HwrwtMvlAv5t0ShPG8HtSTEokizWc0Ztzhf0YXWJRy9UWX4EdiRLEgig" rel="nofollow" style="cursor: pointer\; text-decoration-line: none\; outline: none\; list-style: none\; border-width: 0px\; border-style: initial\; border-color: initial\; padding: 0px\; margin: 0px\; touch-action: manipulation\; background-color: transparent\; text-align: inherit\; display: inline\; -webkit-tap-highlight-color: transparent\; box-sizing: border-box\; font-family: inherit\;" tabindex="0" target="_blank">https://coastalbendcasa.org/2022-casa-superhero-5k</a><br />\n<br />\nAll proceeds benefit CASA of the Coastal Bend\, a non-profit organization that trains volunteers to advocate for the best interest of children in Nueces and Aransas county foster care.<br />\n&nbsp\;</div>\n
LOCATION:Heritage Park\, 1581 N. Chaparral St.
UID:e.1866.27404
SEQUENCE:3
DTSTAMP:20260423T120453Z
URL:https://chamber.unitedcorpuschristi.org/events/details/17th-annual-casa-superhero-5k-run-walk-27404
END:VEVENT

END:VCALENDAR
