BEGIN:VCALENDAR
VERSION:2.0
PRODID:-//ChamberMaster//Event Calendar 2.0//EN
METHOD:PUBLISH
X-PUBLISHED-TTL:P3D
REFRESH-INTERVAL:P3D
CALSCALE:GREGORIAN
BEGIN:VEVENT
DTSTART:20251209T190000Z
DTEND:20251209T200000Z
X-MICROSOFT-CDO-ALLDAYEVENT:FALSE
SUMMARY:Trust By Design: Creating Safe\, Secure Experiences Customers Love
DESCRIPTION:This session explores how to build trust through secure design and communication. It includes best practices for websites\, mobile apps\, and industrial systems. The session also covers policies\, handbooks\, and phishing simulations\, and emphasizes the importance of a strong security culture across employees\, vendors\, and customers.\n\nWhat you will learn: \n\n Improved customer trust through secure design\n\n Stronger internal security culture\n\n Clear policies for mobile and industrial environments\n\n Better vendor and customer alignment on safety
X-ALT-DESC;FMTTYPE=text/html:<p>This session explores how to build trust through secure design and communication. It includes best practices for websites\, mobile apps\, and industrial systems. The session also covers policies\, handbooks\, and phishing simulations\, and emphasizes the importance of a strong security culture across employees\, vendors\, and customers.</p>\n\n<p><strong>What you will learn:&nbsp\;</strong><br />\n&bull\;Improved customer trust through secure design<br />\n&bull\;Stronger internal security culture<br />\n&bull\;Clear policies for mobile and industrial environments<br />\n&bull\;Better vendor and customer alignment on safety</p>\n\n<p>&nbsp\;</p>\n
LOCATION:webinar - online
UID:e.1866.30549
SEQUENCE:3
DTSTAMP:20260419T210029Z
URL:http://chamber.unitedcorpuschristi.org/events/details/trust-by-design-creating-safe-secure-experiences-customers-love-30549
END:VEVENT

END:VCALENDAR
