BEGIN:VCALENDAR
VERSION:2.0
PRODID:-//ChamberMaster//Event Calendar 2.0//EN
METHOD:PUBLISH
X-PUBLISHED-TTL:P3D
REFRESH-INTERVAL:P3D
CALSCALE:GREGORIAN
BEGIN:VEVENT
DTSTART;VALUE=DATE:20250221
DTEND;VALUE=DATE:20250224
TRANSP:TRANSPARENT
X-MICROSOFT-CDO-ALLDAYEVENT:TRUE
SUMMARY:The Peddler Show in Robstown!
DESCRIPTION:The Peddler Show travels to different Texas cities throughout the year with each show different from the last. Every show offers an entirely unique collection of selected inspired designers\, boutiques and other exclusive vendors from all over for that particular weekend and city.  Make sure to follow us on Facebook and Instagram for a more detailed insight of our shows and a glimpse of what our vendors have to offer this year!\n\n\n\nPurchase tickets: www.peddlershow.com \n\nShow Hours:\n\nFebruary 21: 12pm-6pm\n\nFebruary 22: 9am-6pm\n\nFebruary 23: 11am-4pm
X-ALT-DESC;FMTTYPE=text/html:<span style="color:rgb(68\, 68\, 68)\; font-family:droid serif\; font-size:18px">The Peddler Show travels to different Texas cities throughout the year with each show different from the last. Every show offers an entirely unique collection of selected inspired designers\, boutiques and other exclusive vendors from all over for that particular weekend and city. &nbsp\;Make sure to follow us on Facebook and Instagram for a more detailed insight of our shows and a glimpse of what our vendors have to offer this year!<br />\n<br />\nPurchase tickets: www.peddlershow.com&nbsp\;<br />\n<u>Show Hours:</u><br />\nFebruary 21: 12pm-6pm<br />\nFebruary 22: 9am-6pm<br />\nFebruary 23: 11am-4pm</span>
LOCATION:RMB Regional Fairgrounds 1213 Terry Shamsie Blvd Robstown\, TX 78380
UID:e.1866.30015
SEQUENCE:3
DTSTAMP:20260424T020544Z
URL:http://chamber.unitedcorpuschristi.org/events/details/the-peddler-show-in-robstown-30015
END:VEVENT

END:VCALENDAR
