BEGIN:VCALENDAR
VERSION:2.0
PRODID:-//ChamberMaster//Event Calendar 2.0//EN
METHOD:PUBLISH
X-PUBLISHED-TTL:P3D
REFRESH-INTERVAL:P3D
CALSCALE:GREGORIAN
BEGIN:VEVENT
DTSTART:20260506T160000Z
DTEND:20260506T190000Z
X-MICROSOFT-CDO-ALLDAYEVENT:FALSE
SUMMARY:Small Business Exchange
DESCRIPTION:Join us for the Small Business Exchange on Wednesday\, May 6 from 11 a.m. to 2 p.m. at the Coastal Bend Business Innovation Center\, hosted in partnership with the United Corpus Christi Chamber of Commerce in celebration of National Small Business Week.\nStop by anytime during this come-and-go event to enjoy a complimentary lunch while connecting with trusted business resource partners ready to help you start\, grow\, and succeed. You'll have the opportunity to meet with organizations like SCORE\, APEX Accelerator\, Del Mar College Internship Program\, the Small Business Development Center\, LiftFund\, the Contractor Resource Center\, the Cyber Center at Del Mar College\, and more.\n\nWhether you're launching a new idea or scaling an existing business\, this is a valuable opportunity to get expert guidance\, ask questions\, and build connections all in one place.
X-ALT-DESC;FMTTYPE=text/html:<span style="color: rgb(100\, 100\, 100)\; font-family: Conv_AvenirLTStd-Light\, Verdana\, Arial\, Helvetica\, sans-serif\; font-size: 15px\;">Join us for the Small Business Exchange on Wednesday\, May 6 from 11 a.m. to 2 p.m. at the Coastal Bend Business Innovation Center\, hosted in partnership with the United Corpus Christi Chamber of Commerce in celebration of National Small Business Week.</span>\n<p style="box-sizing: border-box\; margin: 0px 0px 10px\; padding: 0px\; font-size: 15px\; color: rgb(100\, 100\, 100)\; line-height: 26px\; font-family: Conv_AvenirLTStd-Light\, Verdana\, Arial\, Helvetica\, sans-serif !important\; outline: none !important\;">Stop by anytime during this come-and-go event to enjoy a complimentary lunch while connecting with trusted business resource partners ready to help you start\, grow\, and succeed. You&rsquo\;ll have the opportunity to meet with organizations like SCORE\, APEX Accelerator\, Del Mar College Internship Program\, the Small Business Development Center\, LiftFund\, the Contractor Resource Center\, the Cyber Center at Del Mar College\, and more.</p>\n\n<p style="box-sizing: border-box\; margin: 0px 0px 10px\; padding: 0px\; font-size: 15px\; color: rgb(100\, 100\, 100)\; line-height: 26px\; font-family: Conv_AvenirLTStd-Light\, Verdana\, Arial\, Helvetica\, sans-serif !important\; outline: none !important\;">Whether you&#39\;re launching a new idea or scaling an existing business\, this is a valuable opportunity to get expert guidance\, ask questions\, and build connections all in one place.</p>\n
LOCATION:
UID:e.1866.30932
SEQUENCE:3
DTSTAMP:20260422T121405Z
URL:http://chamber.unitedcorpuschristi.org/events/details/small-business-exchange-30932
END:VEVENT

END:VCALENDAR
