BEGIN:VCALENDAR
VERSION:2.0
PRODID:-//ChamberMaster//Event Calendar 2.0//EN
METHOD:PUBLISH
X-PUBLISHED-TTL:P3D
REFRESH-INTERVAL:P3D
CALSCALE:GREGORIAN
BEGIN:VEVENT
DTSTART:20251126T000000Z
DTEND:20251126T020000Z
X-MICROSOFT-CDO-ALLDAYEVENT:FALSE
SUMMARY:Senior Theatre Capstone Productions
DESCRIPTION:The Department of Theatre and Dance at Texas A&M University-Corpus Christi invites you to attend the Senior Theatre Capstone Productions on Tuesday\, Nov. 25\, at 6 p.m. in the Warren Theatre\, inside the Center for the Arts. Celebrate the next generation of theatre artists and performers with a powerful showcase of senior projects\, where hard work\, creativity\, and unique artistic visions take center stage.\n\n\n\nGeneral Admission tickets are $13.50 or $11.50 for seniors 65+\, students\, and military\, and can be purchased at www.tamucc.tix.com
X-ALT-DESC;FMTTYPE=text/html:The Department of Theatre and Dance at Texas A&amp\;M University-Corpus Christi invites you to attend the Senior Theatre Capstone Productions on Tuesday\, Nov. 25\, at 6 p.m. in the Warren Theatre\, inside the Center for the Arts. Celebrate the next generation of theatre artists and performers with a powerful showcase of senior projects\, where hard work\, creativity\, and unique artistic visions take center stage.<br />\n<br />\nGeneral Admission tickets are $13.50 or $11.50 for seniors 65+\, students\, and military\, and can be purchased at <a href="http://www.tamucc.tix.com">www.tamucc.tix.com</a>
LOCATION:Warren Theatre\, Center for the Arts\, Texas A&M University-Corpus Christi
UID:e.1866.30564
SEQUENCE:3
DTSTAMP:20260423T120151Z
URL:http://chamber.unitedcorpuschristi.org/events/details/senior-theatre-capstone-productions-30564
END:VEVENT

END:VCALENDAR
