BEGIN:VCALENDAR
VERSION:2.0
PRODID:-//ChamberMaster//Event Calendar 2.0//EN
METHOD:PUBLISH
X-PUBLISHED-TTL:P3D
REFRESH-INTERVAL:P3D
CALSCALE:GREGORIAN
BEGIN:VEVENT
DTSTART:20251107T140000Z
DTEND:20251107T160000Z
X-MICROSOFT-CDO-ALLDAYEVENT:FALSE
SUMMARY:Ribbon Cutting for Walmart
DESCRIPTION:Ribbon Cutting Celebration at Walmart!  \n\nJoin us as we celebrate the official ribbon cutting of your local Walmart! Come out and be part of the excitement with community members\, leaders\, and special guests for a morning of full of anticipation and connection.\n\n  Date: Friday\, November 7\n\n  Event Time: 8:00 AM   10:00 AM\n\n   Ribbon Cutting: 9:00 AM\n\n  Location: 1821 S Padre Island Dr\, Corpus Christi\, TX 78416\n\nCome show your support and help us welcome a new chapter of service\, savings\, and community!
X-ALT-DESC;FMTTYPE=text/html:<p data-end="52" data-start="0" style="font-family: -apple-system-font\; font-size: 12px\; caret-color: rgb(0\, 0\, 0)\; color: rgb(0\, 0\, 0)\;"><span style="font-size:16px\;"><span style="font-family:arial\;">&#127881\;&nbsp\;<strong data-end="47" data-start="5">Ribbon Cutting Celebration at Walmart!</strong>&nbsp\;&#127881\;</span></span></p>\n\n<p data-end="242" data-start="54" style="font-family: -apple-system-font\; font-size: 12px\; caret-color: rgb(0\, 0\, 0)\; color: rgb(0\, 0\, 0)\;"><span style="font-size:16px\;"><span style="font-family:arial\;">Join us as we celebrate the official ribbon cutting of your local&nbsp\;<strong data-end="131" data-start="120">Walmart</strong>! Come out and be part of the excitement with community members\, leaders\, and special guests for a morning of full of anticipation and connection.</span></span></p>\n\n<p data-end="430" data-start="244" style="font-family: -apple-system-font\; font-size: 12px\; caret-color: rgb(0\, 0\, 0)\; color: rgb(0\, 0\, 0)\;"><span style="font-size:16px\;"><span style="font-family:arial\;">&#128197\;&nbsp\;<strong data-end="256" data-start="247">Date:</strong>&nbsp\;Friday\, November 7<br data-end="282" data-start="279" />\n&#128344\;&nbsp\;<strong data-end="300" data-start="285">Event Time:</strong>&nbsp\;8:00 AM &ndash\; 10:00 AM<br data-end="322" data-is-only-node="" data-start="319" />\n&#9986\;&#65039\;&nbsp\;<strong data-end="344" data-start="325">Ribbon Cutting:</strong>&nbsp\;9:00 AM<br data-end="355" data-start="352" />\n&#128205\;&nbsp\;<strong data-end="371" data-start="358">Location:&nbsp\;</strong>1821 S Padre Island Dr\, Corpus Christi\, TX 78416</span></span></p>\n\n<p data-end="527" data-start="432" style="font-family: -apple-system-font\; font-size: 12px\; caret-color: rgb(0\, 0\, 0)\; color: rgb(0\, 0\, 0)\;"><span style="font-size:16px\;"><span style="font-family:arial\;">Come show your support and help us welcome a new chapter of service\, savings\, and community!&nbsp\;</span></span></p>\n
LOCATION:
UID:e.1866.30233
SEQUENCE:3
DTSTAMP:20260423T120022Z
URL:http://chamber.unitedcorpuschristi.org/events/details/ribbon-cutting-for-walmart-30233
END:VEVENT

END:VCALENDAR
