BEGIN:VCALENDAR
VERSION:2.0
PRODID:-//ChamberMaster//Event Calendar 2.0//EN
METHOD:PUBLISH
X-PUBLISHED-TTL:P3D
REFRESH-INTERVAL:P3D
CALSCALE:GREGORIAN
BEGIN:VEVENT
DTSTART:20250905T210000Z
DTEND:20250906T010000Z
X-MICROSOFT-CDO-ALLDAYEVENT:FALSE
SUMMARY:Ribbon Cutting for Prime Meat Market
DESCRIPTION:You're Invited!  \n\nJoin us as we celebrate the official Grand Opening Ribbon Cutting Ceremony for Prime Meat Market!   \n\n  Date: Friday\, September 5\, 2025\n\n  Time: 4:00 PM   8:00 PM\n\n   Ribbon Cutting: 4:30 PM\n\n  Location: 7629 S Staples St Bldg B\, Corpus Christi\, TX\, 78413\n\nCome tour the market\, meet the team\, and enjoy some refreshments!   \n\nLet's welcome Prime Meat Market to the community in style!
X-ALT-DESC;FMTTYPE=text/html:<p data-end="130" data-start="0" style="font-family: -apple-system-font\; font-size: 12px\; caret-color: rgb(0\, 0\, 0)\; color: rgb(0\, 0\, 0)\;"><span style="font-size:16px\;"><span style="font-family:arial\;">&#127881\;&nbsp\;<strong data-end="24" data-start="5">You&#39\;re Invited!</strong>&nbsp\;&#127881\;<br data-end="32" data-start="29" />\nJoin us as we celebrate the official&nbsp\;Grand Opening&nbsp\;<strong data-end="96" data-is-only-node="" data-start="69">Ribbon Cutting Ceremony</strong>&nbsp\;for&nbsp\;<strong data-end="122" data-start="101">Prime Meat Market</strong>! &#129385\;&#127880\;</span></span></p>\n\n<p data-end="317" data-start="132" style="font-family: -apple-system-font\; font-size: 12px\; caret-color: rgb(0\, 0\, 0)\; color: rgb(0\, 0\, 0)\;"><span style="font-size:16px\;"><span style="font-family:arial\;">&#128197\;&nbsp\;<strong data-end="144" data-start="135">Date:</strong>&nbsp\;Friday\, September 5\, 2025<br data-end="173" data-start="170" />\n&#128338\;&nbsp\;<strong data-end="185" data-is-only-node="" data-start="176">Time:</strong>&nbsp\;4:00 PM &ndash\; 8:00 PM<br data-end="208" data-start="205" />\n&#9986\;&#65039\;&nbsp\;<strong data-end="230" data-start="211">Ribbon Cutting:</strong>&nbsp\;4:30 PM<br data-end="242" data-start="239" />\n&#128205\;&nbsp\;<strong data-end="258" data-start="245">Location:</strong>&nbsp\;7629 S Staples St Bldg B\, Corpus Christi\, TX\, 78413</span></span></p>\n\n<p data-end="476" data-start="319" style="font-family: -apple-system-font\; font-size: 12px\; caret-color: rgb(0\, 0\, 0)\; color: rgb(0\, 0\, 0)\;"><span style="font-size:16px\;"><span style="font-family:arial\;">Come tour the market\, meet the team\, and enjoy some refreshments! &#128004\;&#128293\;<br data-end="416" data-start="413" />\nLet&#39\;s welcome Prime Meat Market to the community in style!</span></span></p>\n
LOCATION:
UID:e.1866.30232
SEQUENCE:3
DTSTAMP:20260423T163803Z
URL:http://chamber.unitedcorpuschristi.org/events/details/ribbon-cutting-for-prime-meat-market-30232
END:VEVENT

END:VCALENDAR
