BEGIN:VCALENDAR
VERSION:2.0
PRODID:-//ChamberMaster//Event Calendar 2.0//EN
METHOD:PUBLISH
X-PUBLISHED-TTL:P3D
REFRESH-INTERVAL:P3D
CALSCALE:GREGORIAN
BEGIN:VEVENT
DTSTART:20251107T220000Z
DTEND:20251108T013000Z
X-MICROSOFT-CDO-ALLDAYEVENT:FALSE
SUMMARY:Ribbon Cutting for Montray's Meat Market
DESCRIPTION:Celebrate the grand opening of Montray's Meat Market\, a new destination in CorpusChristi for fresh\, high-quality cuts and gourmet flavor.   \n\n\n\nGuests will enjoy an evening of wine and beer tastings\, meat sampling\, and great conversation as we officially welcome this exciting new business to our community. From handcrafted selections to expert service\, Montray's Meat Market is ready to bring a new standard of flavor to the Coastal Bend.\n\n\n\n  Date: November 7\, 2025\n\n  Location: 6210 Yorktown Blvd suite 800\, Corpus Christi\, TX 78414\n\n  Event Time: 4:00 PM to 7:30 PM\n\n   Ribbon Cutting: 5:30 PM\n\n\n\nCome be part of the celebration and experience what makes Montray's Meat Market a cut above the rest.
X-ALT-DESC;FMTTYPE=text/html:<div class="nBzcnc OcVpRe" style="width: 448px\; position: relative\; display: flex\; min-height: 32px\; padding-right: 16px\; box-sizing: border-box\; -webkit-box-align: center\; align-items: center\; outline: none\;">\n<div class="toUqff vfzv" font-family:="" google="" id="xDetDlgDesc" letter-spacing:="" style="color: rgb(31\, 31\, 31)\; font-size: 0.875rem\; line-height: 1.25rem\; padding-bottom: 6px\; padding-top: 6px\; -webkit-box-flex: 1\; flex-grow: 1\; -webkit-box-align: center\; align-items: center\; flex-wrap: wrap\; overflow: hidden auto\; white-space-collapse: preserve\; overflow-wrap: break-word\; font-variant-ligatures: no-contextual\; font-feature-settings: ">Celebrate the grand opening of Montray&rsquo\;s Meat Market\, a new destination in CorpusChristi for fresh\, high-quality cuts and gourmet flavor. &#129385\;&#127863\;<br />\n<br />\nGuests will enjoy an evening of wine and beer tastings\, meat sampling\, and great conversation as we officially welcome this exciting new business to our community. From handcrafted selections to expert service\, Montray&rsquo\;s Meat Market is ready to bring a new standard of flavor to the Coastal Bend.<br />\n<br />\n&#128197\; Date: November 7\, 2025<br />\n&#128205\; Location: 6210 Yorktown Blvd suite 800\, Corpus Christi\, TX 78414<br />\n&#128339\; Event Time: 4:00 PM to 7:30 PM<br />\n&#9986\;&#65039\; Ribbon Cutting: 5:30 PM<br />\n<br />\nCome be part of the celebration and experience what makes Montray&rsquo\;s Meat Market a cut above the rest.</div>\n\n<div class="toUqff vfzv" font-family:="" google="" letter-spacing:="" style="color: rgb(31\, 31\, 31)\; font-size: 0.875rem\; line-height: 1.25rem\; padding-bottom: 6px\; padding-top: 6px\; -webkit-box-flex: 1\; flex-grow: 1\; -webkit-box-align: center\; align-items: center\; flex-wrap: wrap\; overflow: hidden auto\; white-space-collapse: preserve\; overflow-wrap: break-word\; font-variant-ligatures: no-contextual\; font-feature-settings: ">&nbsp\;</div>\n</div>\n
LOCATION:
UID:e.1866.30520
SEQUENCE:3
DTSTAMP:20260423T132852Z
URL:http://chamber.unitedcorpuschristi.org/events/details/ribbon-cutting-for-montray-s-meat-market-30520
END:VEVENT

END:VCALENDAR
