BEGIN:VCALENDAR
VERSION:2.0
PRODID:-//ChamberMaster//Event Calendar 2.0//EN
METHOD:PUBLISH
X-PUBLISHED-TTL:P3D
REFRESH-INTERVAL:P3D
CALSCALE:GREGORIAN
BEGIN:VEVENT
DTSTART:20251119T160000Z
DTEND:20251119T163000Z
X-MICROSOFT-CDO-ALLDAYEVENT:FALSE
SUMMARY:Ribbon Cutting for Mission Golf Carts
DESCRIPTION:Get ready to celebrate the Grand Reopening of Mission Golf Carts in Corpus Christi!    \n\n\n\nExplore their lineup of high-performance golf carts and customized rides built for work\, play\, and everything in between. This celebration marks a new chapter for a trusted local business dedicated to quality and service.\n\n\n\n  Wednesday\, November 19\, 2025\n\n  Location: 902 N Padre Island Drive\, Corpus Christi\, TX\n\n  Event Time: 10:00 AM to 10:30 AM\n\n   Ribbon Cutting Time: 10:15 AM\n\n\n\nCome celebrate this milestone and see what's driving Mission Golf Carts forward.
X-ALT-DESC;FMTTYPE=text/html:Get ready to celebrate the Grand Reopening of Mission Golf Carts in Corpus Christi! &#9971\;&#65039\;&#127881\;<br />\n<br />\nExplore their lineup of high-performance golf carts and customized rides built for work\, play\, and everything in between. This celebration marks a new chapter for a trusted local business dedicated to quality and service.<br />\n<br />\n&#128198\; Wednesday\, November 19\, 2025<br />\n&#128205\; Location: 902 N Padre Island Drive\, Corpus Christi\, TX<br />\n&#128345\; Event Time: 10:00 AM to 10:30 AM<br />\n<strong>&#9986\;&#65039\; Ribbon Cutting Time: 10:15 AM</strong><br />\n<br />\nCome celebrate this milestone and see what&rsquo\;s driving Mission Golf Carts forward.
LOCATION:
UID:e.1866.30523
SEQUENCE:3
DTSTAMP:20260423T132701Z
URL:http://chamber.unitedcorpuschristi.org/events/details/ribbon-cutting-for-mission-golf-carts-30523
END:VEVENT

END:VCALENDAR
