BEGIN:VCALENDAR
VERSION:2.0
PRODID:-//ChamberMaster//Event Calendar 2.0//EN
METHOD:PUBLISH
X-PUBLISHED-TTL:P3D
REFRESH-INTERVAL:P3D
CALSCALE:GREGORIAN
BEGIN:VEVENT
DTSTART:20250205T160000Z
DTEND:20250205T183000Z
X-MICROSOFT-CDO-ALLDAYEVENT:FALSE
SUMMARY:Ribbon Cutting for Kent Engineering and Constructors Inc.
DESCRIPTION:Ribbon Cutting & Grand Opening Celebration!  \n\n\n\nJoin us in welcoming Kent to the United Chamber Family as they open their doors at their brand-new location!   Come and meet the team\, explore their beautiful new space\, and celebrate this exciting milestone with them.  \n\n\n\n  Date: Wednesday\, February 5\, 2025\n\n  Event Time: 10:00 AM - 12:30 PM\n\n  Ribbon Cutting Time: 11:00 AM\n\n  Location: 802 N. Carancahua St.\, Suite 300\, Corpus Christi\, TX 78401\n\n\n\nWe're thrilled to celebrate Kent's growth and success alongside the community. Bring your friends and join us for this memorable occasion!
X-ALT-DESC;FMTTYPE=text/html:&#127881\; Ribbon Cutting &amp\; Grand Opening Celebration! &#127880\;<br />\n<br />\nJoin us in welcoming Kent to the United Chamber Family as they open their doors at their brand-new location! &#127775\; Come and meet the team\, explore their beautiful new space\, and celebrate this exciting milestone with them. &#127882\;<br />\n<br />\n&#128197\; Date: Wednesday\, February 5\, 2025<br />\n&#9200\; Event Time: 10:00 AM - 12:30 PM<br />\n&#127872\; Ribbon Cutting Time: <strong>11:00 AM</strong><br />\n&#128205\; Location: 802 N. Carancahua St.\, Suite 300\, Corpus Christi\, TX 78401<br />\n<br />\nWe&rsquo\;re thrilled to celebrate Kent&rsquo\;s growth and success alongside the community. Bring your friends and join us for this memorable occasion! &#127881\;
LOCATION:
UID:e.1866.29962
SEQUENCE:3
DTSTAMP:20260424T020236Z
URL:http://chamber.unitedcorpuschristi.org/events/details/ribbon-cutting-for-kent-engineering-and-constructors-inc-29962
END:VEVENT

END:VCALENDAR
