BEGIN:VCALENDAR
VERSION:2.0
PRODID:-//ChamberMaster//Event Calendar 2.0//EN
METHOD:PUBLISH
X-PUBLISHED-TTL:P3D
REFRESH-INTERVAL:P3D
CALSCALE:GREGORIAN
BEGIN:VEVENT
DTSTART:20250130T220000Z
DTEND:20250131T010000Z
X-MICROSOFT-CDO-ALLDAYEVENT:FALSE
SUMMARY:Ribbon Cutting for First Community Mortgage
DESCRIPTION:Grand Opening & Ribbon Cutting Celebration!  \n\n\n\nHelp us celebrate First Community Mortgage as they officially join the United Chamber Family and open their doors at their new location! This is a wonderful opportunity to meet their team\, tour their new office\, and enjoy a festive evening.  \n\n\n\n  Date: Thursday\, January 30\, 2025\n\n  Event Time: 4:00 PM - 7:00 PM\n\n   Ribbon Cutting Time: 5:00 PM\n\n  Location: 4502 S. Staples St.\, Ste. B\, Corpus Christi\, TX 78412\n\n\n\nWe're excited to welcome First Community Mortgage to our community and celebrate this exciting moment together. Bring a friend and join us for a fun and memorable event we can't wait to see you there!
X-ALT-DESC;FMTTYPE=text/html:&#127872\; Grand Opening &amp\; Ribbon Cutting Celebration! &#127881\;<br />\n<br />\nHelp us celebrate First Community Mortgage as they officially join the United Chamber Family and open their doors at their new location! This is a wonderful opportunity to meet their team\, tour their new office\, and enjoy a festive evening. &#127882\;<br />\n<br />\n&#128197\; Date: Thursday\, January 30\, 2025<br />\n&#9200\; Event Time: 4:00 PM - 7:00 PM<br />\n&#9986\;&#65039\; Ribbon Cutting Time: <strong>5:00 PM</strong><br />\n&#128205\; Location: 4502 S. Staples St.\, Ste. B\, Corpus Christi\, TX 78412<br />\n<br />\nWe&rsquo\;re excited to welcome First Community Mortgage to our community and celebrate this exciting moment together. Bring a friend and join us for a fun and memorable event&mdash\;we can&rsquo\;t wait to see you there! &#127881\;
LOCATION:
UID:e.1866.29964
SEQUENCE:3
DTSTAMP:20260424T042831Z
URL:http://chamber.unitedcorpuschristi.org/events/details/ribbon-cutting-for-first-community-mortgage-29964
END:VEVENT

END:VCALENDAR
