BEGIN:VCALENDAR
VERSION:2.0
PRODID:-//ChamberMaster//Event Calendar 2.0//EN
METHOD:PUBLISH
X-PUBLISHED-TTL:P3D
REFRESH-INTERVAL:P3D
CALSCALE:GREGORIAN
BEGIN:VEVENT
DTSTART:20250508T180000Z
DTEND:20250508T220000Z
X-MICROSOFT-CDO-ALLDAYEVENT:FALSE
SUMMARY:Ribbon Cutting for D.R. Horton
DESCRIPTION:Grand Opening Celebration!  \n\n\n\nCome celebrate a fantastic new beginning with us as we welcome D.R. Horton and their beautiful Lakes Northwest Community to the Chamber family!   \n\n\n\nThis is more than just a Ribbon Cutting it's a chance to meet our newest member\, explore a stunning new neighborhood\, and celebrate the exciting growth in our community. Let's show our support and share in this special milestone together!\n\n\n\n  Date: Thursday\, May 8\, 2025\n\n  Time: 1:00 PM   5:00 PM\n\n  Ribbon Cutting Time: 3:00 PM\n\n  Location: 15238 Lake Athens\, Corpus Christi\, TX 78410\n\n\n\nWe're so proud to welcome D.R. Horton and celebrate this amazing accomplishment. Bring a friend\, bring your smile\, and come be a part of this exciting day. We can't wait to see you there!
X-ALT-DESC;FMTTYPE=text/html:&#127881\; Grand Opening Celebration! &#127969\;<br />\n<br />\nCome celebrate a fantastic new beginning with us as we welcome D.R. Horton and their beautiful Lakes Northwest Community to the Chamber family! &#127872\;&#10024\;<br />\n<br />\nThis is more than just a Ribbon Cutting&mdash\;it&#39\;s a chance to meet our newest member\, explore a stunning new neighborhood\, and celebrate the exciting growth in our community. Let&rsquo\;s show our support and share in this special milestone together!<br />\n<br />\n&#128197\; Date: Thursday\, May 8\, 2025<br />\n&#9200\; Time: 1:00 PM &ndash\; 5:00 PM<br />\n&#127872\; Ribbon Cutting Time: <strong>3:00 PM</strong><br />\n&#128205\; Location: 15238 Lake Athens\, Corpus Christi\, TX 78410<br />\n<br />\nWe&rsquo\;re so proud to welcome D.R. Horton and celebrate this amazing accomplishment. Bring a friend\, bring your smile\, and come be a part of this exciting day. We can&#39\;t wait to see you there! &#127882\;
LOCATION:
UID:e.1866.30119
SEQUENCE:3
DTSTAMP:20260423T222540Z
URL:http://chamber.unitedcorpuschristi.org/events/details/ribbon-cutting-for-d-r-horton-30119
END:VEVENT

END:VCALENDAR
