BEGIN:VCALENDAR
VERSION:2.0
PRODID:-//ChamberMaster//Event Calendar 2.0//EN
METHOD:PUBLISH
X-PUBLISHED-TTL:P3D
REFRESH-INTERVAL:P3D
CALSCALE:GREGORIAN
BEGIN:VEVENT
DTSTART:20251117T213000Z
DTEND:20251117T230000Z
X-MICROSOFT-CDO-ALLDAYEVENT:FALSE
SUMMARY:Ribbon Cutting for Corpus Christi Medical Center: Bay Area
DESCRIPTION:Experience innovation in healthcare at the Corpus Christi Medical Center Bay Area Ribbon Cutting Ceremony\, celebrating the expanded Emergency Room and advanced Biplane Technology.   \n\n\n\nDiscover how these enhancements are transforming patient care and expanding access to life-saving technology across the Coastal Bend. Guests will hear from hospital leadership and community officials\, enjoy refreshments\, and have the opportunity to tour the new facilities.\n\n\n\n  Date: November 17\, 2025\n\n  Location: Corpus Christi Medical Center Bay Area\, 7101 S Padre Island Drive\, Corpus Christi\, TX 78412\n\n  Event Time: 3:30 5:00 PM\n\n   Ribbon Cutting Time: 3:45 PM\n\n\n\nCelebrate progress\, innovation\, and the future of healthcare in our community.
X-ALT-DESC;FMTTYPE=text/html:Experience innovation in healthcare at the Corpus Christi Medical Center Bay Area Ribbon Cutting Ceremony\, celebrating the expanded Emergency Room and advanced Biplane Technology. &#127973\;&#10024\;<br />\n<br />\nDiscover how these enhancements are transforming patient care and expanding access to life-saving technology across the Coastal Bend. Guests will hear from hospital leadership and community officials\, enjoy refreshments\, and have the opportunity to tour the new facilities.<br />\n<br />\n&#128197\; Date: November 17\, 2025<br />\n&#128205\; Location: Corpus Christi Medical Center Bay Area\, 7101 S Padre Island Drive\, Corpus Christi\, TX 78412<br />\n&#128338\; Event Time: 3:30&ndash\;5:00 PM<br />\n&#9986\;&#65039\; <strong>Ribbon Cutting Time: 3:45 PM</strong><br />\n<br />\nCelebrate progress\, innovation\, and the future of healthcare in our community.
LOCATION:
UID:e.1866.30515
SEQUENCE:3
DTSTAMP:20260423T132928Z
URL:http://chamber.unitedcorpuschristi.org/events/details/ribbon-cutting-for-corpus-christi-medical-center-bay-area-30515
END:VEVENT

END:VCALENDAR
