BEGIN:VCALENDAR
VERSION:2.0
PRODID:-//ChamberMaster//Event Calendar 2.0//EN
METHOD:PUBLISH
X-PUBLISHED-TTL:P3D
REFRESH-INTERVAL:P3D
CALSCALE:GREGORIAN
BEGIN:VEVENT
DTSTART:20250110T174500Z
DTEND:20250110T190000Z
X-MICROSOFT-CDO-ALLDAYEVENT:FALSE
SUMMARY:Ribbon Cutting for Corpus Christi Athletic Club
DESCRIPTION:Grand Opening Celebration!  \n\nJoin us at The Corpus Christi Athletic Club as they unveil their brand-new Pickleball and Fitness Buildings!   Come see the state-of-the-art pickleball courts and tour the cutting-edge fitness spaces!   Bring your friends and celebrate with us!  \n\n  Date: Friday\, January 10\, 2024\n\n  Time: 11:45 AM - 1:00 PM\n\n  Ribbon Cutting Time: 12:00 PM\n\n  Location: 2101 Airline Rd\, Corpus Christi\, TX 78414\n\n We can't wait to see you there!
X-ALT-DESC;FMTTYPE=text/html:<p>&#127881\; Grand Opening Celebration! &#127880\;</p>\n\n<p>Join us at The Corpus Christi Athletic Club as they unveil their brand-new Pickleball and Fitness Buildings! &#127955\; Come see the&nbsp\;state-of-the-art pickleball courts and&nbsp\;tour the cutting-edge fitness spaces! &#128170\; Bring your friends and celebrate with us! &#127882\;</p>\n\n<p>&#128197\; Date: Friday\, January 10\, 2024<br />\n&#9200\; Time: 11:45&nbsp\;AM - 1:00&nbsp\;PM<br />\n&#127872\; Ribbon Cutting Time: <strong>12:00&nbsp\;PM</strong><br />\n&#128205\; Location: 2101 Airline Rd\, Corpus Christi\, TX 78414</p>\n\n<p>&nbsp\;We can&rsquo\;t wait to see you there! &#127882\;</p>\n
LOCATION:
UID:e.1866.29933
SEQUENCE:3
DTSTAMP:20260424T031946Z
URL:http://chamber.unitedcorpuschristi.org/events/details/ribbon-cutting-for-corpus-christi-athletic-club-29933
END:VEVENT

END:VCALENDAR
