BEGIN:VCALENDAR
VERSION:2.0
PRODID:-//ChamberMaster//Event Calendar 2.0//EN
METHOD:PUBLISH
X-PUBLISHED-TTL:P3D
REFRESH-INTERVAL:P3D
CALSCALE:GREGORIAN
BEGIN:VEVENT
DTSTART:20250220T183000Z
DTEND:20250220T193000Z
X-MICROSOFT-CDO-ALLDAYEVENT:FALSE
SUMMARY:Ribbon Cutting for CDCB | Come Dream. Come Build.
DESCRIPTION:Grand Opening Celebration!  \n\n\n\nJoin us as we celebrate the exciting Grand Opening of CDCB | Come Dream. Come Build.!    This special event marks a new milestone in their mission to create affordable housing and build stronger communities. Let's come together to support their incredible work and the positive impact they're making!\n\n\n\n  Date: Thursday\, February 20\, 2025\n\n  Time: 12:30 PM - 1:30 PM\n\n   Ribbon Cutting: 12:50 PM\n\n  Location: 1022 Santa Fe St.\, Corpus Christi\, TX 78404\n\n\n\nCome meet the CDCB team\, learn more about their vision\, and celebrate the future of community development. We can't wait to see you there!
X-ALT-DESC;FMTTYPE=text/html:<p>&#127969\;&#10024\; Grand Opening Celebration! &#127881\;<br />\n<br />\nJoin us as we celebrate the exciting Grand Opening of CDCB&nbsp\;| Come Dream. Come Build.! &#127968\;&#128153\; This special event marks a new milestone in their mission to create affordable housing and build stronger communities. Let&rsquo\;s come together to support their incredible work and the positive impact they&rsquo\;re making!<br />\n<br />\n&#128197\; Date: Thursday\, February 20\, 2025<br />\n&#9200\; Time: 12:30 PM - 1:30 PM<br />\n&#9986\;&#65039\; Ribbon Cutting: <strong>12:50 PM</strong><br />\n&#128205\; Location: 1022 Santa Fe St.\, Corpus Christi\, TX&nbsp\;78404<br />\n<br />\nCome meet the CDCB&nbsp\;team\, learn more about their vision\, and celebrate the future of community development. We can&#39\;t wait to see you there! &#127882\;&#10024\;</p>\n
LOCATION:
UID:e.1866.30027
SEQUENCE:3
DTSTAMP:20260424T020440Z
URL:http://chamber.unitedcorpuschristi.org/events/details/ribbon-cutting-for-cdcb-come-dream-come-build-30027
END:VEVENT

END:VCALENDAR
