BEGIN:VCALENDAR
VERSION:2.0
PRODID:-//ChamberMaster//Event Calendar 2.0//EN
METHOD:PUBLISH
X-PUBLISHED-TTL:P3D
REFRESH-INTERVAL:P3D
CALSCALE:GREGORIAN
BEGIN:VEVENT
DTSTART:20241212T220000Z
DTEND:20241213T010000Z
X-MICROSOFT-CDO-ALLDAYEVENT:FALSE
SUMMARY:Ribbon Cutting for Borchard Aesthetics
DESCRIPTION:Ribbon-Cutting at Borchard Aesthetics  \n\n\n\nJoin the Chamber as we celebrate the ribbon cutting for Borchard Aesthetics!   Celebrate your new favorite medical spa with a ribbon-cutting ceremony\, tour our luxurious space\, and learn about their exclusive treatments.      \n\n\n\n  Date: Thursday\, December 12th\, 2024\n\n  Time: 4:00 PM - 7:00 PM\n\n  Ribbon Cutting Time: 4:30 PM\n\n  Location: 6434 Saratoga Blvd Ste A\, Corpus Christi\, TX 78414\n\n\n\nEnjoy light refreshments and speak with the Borchard Aesthetics Staff!   We can't wait to welcome our new members!
X-ALT-DESC;FMTTYPE=text/html:<p>&#127872\; Ribbon-Cutting at Borchard Aesthetics &#127872\;<br />\n<br />\nJoin the Chamber as we celebrate the ribbon cutting for Borchard Aesthetics! &#127881\; Celebrate your new favorite medical spa with a ribbon-cutting ceremony\, tour our luxurious space\, and learn about their exclusive treatments. &#128134\;&zwj\;&#9792\;&#65039\;&#10024\;<br />\n<br />\n&#128197\; Date: Thursday\, December 12th\, 2024<br />\n&#9200\; Time: 4:00 PM - 7:00 PM<br />\n&#127872\; Ribbon Cutting Time: 4:30 PM<br />\n&#128205\; Location: 6434 Saratoga Blvd Ste A\, Corpus Christi\, TX 78414<br />\n<br />\nEnjoy light refreshments and speak with the Borchard Aesthetics Staff! &#127873\; We can&rsquo\;t wait to welcome our new members! &#127807\;</p>\n
LOCATION:
UID:e.1866.29929
SEQUENCE:3
DTSTAMP:20260424T042816Z
URL:http://chamber.unitedcorpuschristi.org/events/details/ribbon-cutting-for-borchard-aesthetics-29929
END:VEVENT

END:VCALENDAR
