BEGIN:VCALENDAR
VERSION:2.0
PRODID:-//ChamberMaster//Event Calendar 2.0//EN
METHOD:PUBLISH
X-PUBLISHED-TTL:P3D
REFRESH-INTERVAL:P3D
CALSCALE:GREGORIAN
BEGIN:VEVENT
DTSTART:20240814T203000Z
DTEND:20240814T220000Z
X-MICROSOFT-CDO-ALLDAYEVENT:FALSE
SUMMARY:Ribbon Cutting for Baseload Power Generation Parts and Services LLC
DESCRIPTION:Ribbon Cutting Celebration   \n\nWe are thrilled to announce the grand opening of the expanded headquarters for Baseload Power Generation Parts and Services LLC! Join us as we celebrate this exciting milestone and the continued growth of our local business community.\n\n  Date: August 14\, 2024\n\n  Time: 3:30\n\n  Ribbon Cutting Time: 4:15\n\n  Location: 3609 CR 55A\, Corpus Christi\, TX 78406\n\nBaseload Power Generation Parts and Services LLC has been a vital part of our community\, providing essential services and contributing to our local economy. The expansion of their headquarters marks a significant achievement and a testament to their dedication and hard work.\n\nCome and meet the team\, tour the new facility\, and enjoy some refreshments. This is a fantastic opportunity to network\, show support for a local business\, and learn more about the innovative solutions Baseload Power offers.
X-ALT-DESC;FMTTYPE=text/html:<p>&#127881\;&#127872\; Ribbon Cutting Celebration &#127872\;&#127881\;</p>\n\n<p>We are thrilled to announce the grand opening of the expanded headquarters for Baseload Power Generation Parts and Services LLC! Join us as we celebrate this exciting milestone and the continued growth of our local business community.</p>\n\n<p>&#128197\; <strong>Date:</strong>&nbsp\;August 14\, 2024<br />\n&#128338\; <strong>Time:</strong>&nbsp\;3:30<br />\n&#127872\;&nbsp\;<strong>Ribbon Cutting Time: 4:15</strong><br />\n&#128205\; <strong>Location:</strong>&nbsp\;<span style="color: rgb(32\, 33\, 36)\; font-family: Roboto\, Arial\, sans-serif\; font-size: 14px\; letter-spacing: 0.2px\; white-space-collapse: preserve\; background-color: rgb(255\, 255\, 255)\;">3609 CR 55A\, Corpus Christi\, TX 78406</span></p>\n\n<p>Baseload Power Generation Parts and Services LLC has been a vital part of our community\, providing essential services and contributing to our local economy. The expansion of their headquarters marks a significant achievement and a testament to their dedication and hard work.</p>\n\n<p>Come and meet the team\, tour the new facility\, and enjoy some refreshments. This is a fantastic opportunity to network\, show support for a local business\, and learn more about the innovative solutions Baseload Power offers.</p>\n
LOCATION:
UID:e.1866.29539
SEQUENCE:3
DTSTAMP:20260424T094853Z
URL:http://chamber.unitedcorpuschristi.org/events/details/ribbon-cutting-for-baseload-power-generation-parts-and-services-llc-29539
END:VEVENT

END:VCALENDAR
