BEGIN:VCALENDAR
VERSION:2.0
PRODID:-//ChamberMaster//Event Calendar 2.0//EN
METHOD:PUBLISH
X-PUBLISHED-TTL:P3D
REFRESH-INTERVAL:P3D
CALSCALE:GREGORIAN
BEGIN:VEVENT
DTSTART:20241022T220000Z
DTEND:20241023T003000Z
X-MICROSOFT-CDO-ALLDAYEVENT:FALSE
SUMMARY:Ribbon Cutting For Action Behavior Center
DESCRIPTION:You're Invited to Action Behavior Center's Grand Opening & Ribbon Cutting!  \n\n\n\nJoin us for a special celebration as Action Behavior Center opens its doors! This event is a wonderful opportunity for local providers to tour the facility\, meet their dedicated team\, and learn about the services they offer!   \n\n\n\n  Date: Tuesday\, October 22\, 2024\n\n  Time: 5:00PM - 7:00 PM\n\n  Ribbon Cutting: 5:30PM\n\n   Location: 7001 Yorktown\, Suite 2\, Corpus Christi\, TX 78414\n\n\n\nWe're excited to share their mission and vision with you all\, and we can't wait to collaborate to make a positive impact in our community!
X-ALT-DESC;FMTTYPE=text/html:<p>&#127881\; You&#39\;re Invited to Action Behavior Center&#39\;s Grand Opening &amp\; Ribbon Cutting! &#127881\;<br />\n<br />\nJoin us for a special celebration as Action Behavior Center opens its doors! This event is a wonderful opportunity for local providers to tour the facility\, meet their dedicated team\, and learn about the services they offer! &#9986\;&#127970\;<br />\n<br />\n&#128197\; Date: Tuesday\, October 22\, 2024<br />\n&#128341\; Time: 5:00PM - 7:00 PM<br />\n&#127872\; Ribbon Cutting: 5:30PM<br />\n&nbsp\;&#128205\; Location: 7001 Yorktown\, Suite 2\, Corpus Christi\, TX 78414<br />\n<br />\nWe&#39\;re excited to share their mission and vision with you all\, and we can&#39\;t wait to collaborate to make a positive impact in our community! &#128522\;</p>\n
LOCATION:
UID:e.1866.29607
SEQUENCE:3
DTSTAMP:20260424T065837Z
URL:http://chamber.unitedcorpuschristi.org/events/details/ribbon-cutting-for-action-behavior-center-29607
END:VEVENT

END:VCALENDAR
