BEGIN:VCALENDAR
VERSION:2.0
PRODID:-//ChamberMaster//Event Calendar 2.0//EN
METHOD:PUBLISH
X-PUBLISHED-TTL:P3D
REFRESH-INTERVAL:P3D
CALSCALE:GREGORIAN
BEGIN:VEVENT
DTSTART:20251115T140000Z
DTEND:20251115T193000Z
X-MICROSOFT-CDO-ALLDAYEVENT:FALSE
SUMMARY:PULL for Mission of Mercy Clay Shoot
DESCRIPTION:Join us for the PULL for Mission of Mercy Clay Shoot on Saturday\, November 15\, 2025\, at the Corpus Christi Gun Club! ?? Start your morning with an exciting sporting clay shoot\, followed by a delicious lunch\, awards ceremony\, and raffles all while supporting Mission of Mercy Medical Center and our mission to provide free healthcare services to those in need. Whether you're a seasoned shooter or a first-timer\, this is a great opportunity to have fun\, compete\, and give back to the community. Don't miss out register today!
X-ALT-DESC;FMTTYPE=text/html:<!-- x-tinymce/html -->Join us for the <strong>PULL for Mission of Mercy Clay Shoot</strong> on <strong>Saturday\, November 15\, 2025</strong>\, at the <strong>Corpus Christi Gun Club</strong>! ?? Start your morning with an exciting <strong>sporting clay shoot</strong>\, followed by a delicious <strong>lunch\, awards ceremony\, and raffles</strong>&mdash\;all while supporting <strong>Mission of Mercy Medical Center</strong> and our mission to provide <strong>free healthcare services</strong> to those in need. Whether you&#39\;re a seasoned shooter or a first-timer\, this is a great opportunity to <strong>have fun\, compete\, and give back to the community</strong>. <strong>Don&rsquo\;t miss out&mdash\;register today!</strong>
LOCATION:Corpus Christi Gun Club
UID:e.1866.30464
SEQUENCE:3
DTSTAMP:20260423T132520Z
URL:http://chamber.unitedcorpuschristi.org/events/details/pull-for-mission-of-mercy-clay-shoot-30464
END:VEVENT

END:VCALENDAR
