BEGIN:VCALENDAR
VERSION:2.0
PRODID:-//ChamberMaster//Event Calendar 2.0//EN
METHOD:PUBLISH
X-PUBLISHED-TTL:P3D
REFRESH-INTERVAL:P3D
CALSCALE:GREGORIAN
BEGIN:VEVENT
DTSTART;VALUE=DATE:20250515
DTEND;VALUE=DATE:20250518
TRANSP:TRANSPARENT
X-MICROSOFT-CDO-ALLDAYEVENT:TRUE
SUMMARY:Prosperity Bank Masterclass Series
DESCRIPTION:The Prosperity Bank Business Masterclass Series consists of 8 sessions and is created specifically for entrepreneurs and small business owners who are looking for new strategies while developing an effective plan for successful business growth.\n\nAdditional Details:\n\n\n	Multi-week curriculum instructed by top business executives and financial professionals\n	Assigned mentors to work one-on-one with the participants\n	Exclusive resources to enhance and expand the learning experience\n	An exciting Pitch Competition\n\n\nWho Should Apply:\n\n\n	Small business owner who has been operating a business for at least one (1) year\n	A For-Profit business that is generating revenue of $2 million or less\n	Able to provide a copy of your entity documents\n	Willing to participate in a Pitch Competition\n	Willing to meet with an assigned mentor four (4) times throughout the series\n	Agree to attend 80% of the classes
X-ALT-DESC;FMTTYPE=text/html:<p>The Prosperity Bank Business Masterclass Series consists of 8 sessions and is created specifically for entrepreneurs and small business owners who are looking for&nbsp\;new strategies while developing an effective plan for successful business growth.</p>\n\n<p><strong>Additional Details:</strong></p>\n\n<ul>\n	<li>Multi-week curriculum instructed by top business executives and financial professionals</li>\n	<li>Assigned mentors to work one-on-one with the participants</li>\n	<li>Exclusive resources to enhance and expand the learning experience</li>\n	<li>An exciting Pitch Competition</li>\n</ul>\n\n<p><strong>Who Should Apply:</strong></p>\n\n<ul>\n	<li>Small business owner who has been operating a business for at least one (1) year</li>\n	<li>A For-Profit business that is generating revenue of $2 million or less</li>\n	<li>Able to provide a copy of your entity documents</li>\n	<li>Willing to participate in a Pitch Competition</li>\n	<li>Willing to meet with an assigned mentor four (4) times throughout the series</li>\n	<li>Agree to attend 80% of the classes</li>\n</ul>\n
LOCATION:3209 S. Staples St.
UID:e.1866.30118
SEQUENCE:3
DTSTAMP:20260423T220741Z
URL:http://chamber.unitedcorpuschristi.org/events/details/prosperity-bank-masterclass-series-30118
END:VEVENT

END:VCALENDAR
