BEGIN:VCALENDAR
VERSION:2.0
PRODID:-//ChamberMaster//Event Calendar 2.0//EN
METHOD:PUBLISH
X-PUBLISHED-TTL:P3D
REFRESH-INTERVAL:P3D
CALSCALE:GREGORIAN
BEGIN:VEVENT
DTSTART:20251130T010000Z
DTEND:20251130T040000Z
X-MICROSOFT-CDO-ALLDAYEVENT:FALSE
SUMMARY:Polar Express Movie Night
DESCRIPTION:All aboard the USS Lexington Museum\, to watch the Polar Express in the Joe Jessel MEGA Theater! Get your golden ticket to an evening of adventure\, immersed in a three- story-tall screen and thundering digital sound.\n\n \n\nPassengers will be served hot chocolate and holidays treats. Wear your coziest pajamas\, as you experience a journey to the North Pole. After the movie\, the first gifts of Christmas will be given to guests as they make their departure.\n\n \n\nCreate special memories with your loved ones while celebrating the holidays by watching a Christmas classic\, in the only theater of its kind in South Texas!\n\n \n\nJoin us on Saturday\, November 29th in the Joe Jessel MEGA Theater. Doors open at 7 p.m.\n\n \n\nTickets: $20 for Museum Members and Military\, $30 for Non-Members. Tickets are available for purchase online only\, through Friday\, November 28th or until sold out.
X-ALT-DESC;FMTTYPE=text/html:All aboard the USS Lexington Museum\, to watch the Polar Express in the Joe Jessel MEGA Theater! Get your golden ticket to an evening of adventure\, immersed in a three- story-tall screen and thundering digital sound.<br />\n&nbsp\;<br />\nPassengers will be served hot chocolate and holidays treats. Wear your coziest pajamas\, as you experience a journey to the North Pole. After the movie\, the first gifts of Christmas will be given to guests as they make their departure.<br />\n&nbsp\;<br />\nCreate special memories with your loved ones while celebrating the holidays by watching a Christmas classic\, in the only theater of its kind in South Texas!<br />\n&nbsp\;<br />\nJoin us on Saturday\, November 29th in the Joe Jessel MEGA Theater. Doors open at 7 p.m.<br />\n&nbsp\;<br />\nTickets: $20 for Museum Members and Military\, $30 for Non-Members. Tickets are available for purchase online only\, through Friday\, November 28<sup>th</sup> or until sold out.
LOCATION:2914 North Shoreline Blvd. Corpus Christi\, TX 78402
UID:e.1866.30561
SEQUENCE:3
DTSTAMP:20260423T120145Z
URL:http://chamber.unitedcorpuschristi.org/events/details/polar-express-movie-night-11-29-2025-30561
END:VEVENT

END:VCALENDAR
