BEGIN:VCALENDAR
VERSION:2.0
PRODID:-//ChamberMaster//Event Calendar 2.0//EN
METHOD:PUBLISH
X-PUBLISHED-TTL:P3D
REFRESH-INTERVAL:P3D
CALSCALE:GREGORIAN
BEGIN:VEVENT
DTSTART:20250326T163000Z
DTEND:20250326T180000Z
X-MICROSOFT-CDO-ALLDAYEVENT:FALSE
SUMMARY:Lunch & Learn: The Power of Customer Feedback
DESCRIPTION:The Power of Customer Feedback: Two Simple Questions That Will Grow Your Business is a practical\, no-nonsense guide for small business owners who want to harness the power of customer feedback without the overwhelm. In this session\, you'll learn how to measure customer satisfaction with just two simple questions\, what to do with the feedback\, and how to turn it into actionable insights.\n\nWe'll cover how to implement a quick and easy customer satisfaction survey\, use AI tools to analyze data\, and even handle negative feedback in a way that benefits your business. By the end\, you'll walk away with clear steps to start using customer feedback to improve your products\, service\, and ultimately\, your bottom line.\n\n\n\nRegister today at https://CustomerFeedback2025.eventbrite.com!
X-ALT-DESC;FMTTYPE=text/html:<p><em><strong>The Power of Customer Feedback: Two Simple Questions That Will Grow Your Business</strong></em><em>&nbsp\;</em>is a practical\, no-nonsense guide for small business owners who want to harness the power of customer feedback without the overwhelm. In this session\, you&rsquo\;ll learn how to measure customer satisfaction with just two simple questions\, what to do with the feedback\, and how to turn it into actionable insights.</p>\n\n<p>We&rsquo\;ll cover how to implement a quick and easy customer satisfaction survey\, use AI tools to analyze data\, and even handle negative feedback in a way that benefits your business. By the end\, you&rsquo\;ll walk away with clear steps to start using customer feedback to improve your products\, service\, and ultimately\, your bottom line.<br />\n<br />\n<strong>Register today at&nbsp\;<a href="https://www.eventbrite.com/e/lunch-learn-the-power-of-customer-feedback-tickets-1082318376399?aff=oddtdtcreator">https://CustomerFeedback2025.eventbrite.com</a>!</strong></p>\n
LOCATION:Coastal Bend Business Innovation Center - Lobby
UID:e.1866.30038
SEQUENCE:3
DTSTAMP:20260424T005846Z
URL:http://chamber.unitedcorpuschristi.org/events/details/lunch-learn-the-power-of-customer-feedback-30038
END:VEVENT

END:VCALENDAR
