BEGIN:VCALENDAR
VERSION:2.0
PRODID:-//ChamberMaster//Event Calendar 2.0//EN
METHOD:PUBLISH
X-PUBLISHED-TTL:P3D
REFRESH-INTERVAL:P3D
CALSCALE:GREGORIAN
BEGIN:VEVENT
DTSTART:20251116T013000Z
DTEND:20251116T030000Z
X-MICROSOFT-CDO-ALLDAYEVENT:FALSE
SUMMARY:Life of Galileo
DESCRIPTION:The Department of Theatre and Dance at Texas A&M University-Corpus Christi is proud to host Life of Galileo by Bertolt Brecht\, Friday\, November 14\, Saturday\, November 15\, at 7:30 p.m. There will also be a matinee showing on Sunday\, November 16\, at 2 p.m.\n \n\nAdditional Showings will be on Thursday\, November 20\, Friday\, November 21\, and Saturday\, November 22\, at 7:30 p.m. This production Directed by Kelly Russell\, will be in the Warren Theatre\, located inside the Center for the Arts.\n \n\nJoin us for a timeless exploration of science versus authority and the responsibility of intellectuals to society\, Brecht's drama is both a captivating personal story and a powerful critique of the dangers of suppressing free thought. Visit tamucc.tix.com to view and purchase tickets.\n\n \n\nTo learn more about the Department of Music\, please visit tamucc.edu/samc/theatre/
X-ALT-DESC;FMTTYPE=text/html:The Department of Theatre and Dance at Texas A&amp\;M University-Corpus Christi is proud to host Life of Galileo by Bertolt Brecht\, Friday\, November 14\, Saturday\, November 15\, at 7:30 p.m. There will also be a matinee showing on Sunday\, November 16\, at 2 p.m.\n<div>&nbsp\;</div>\n\n<div>Additional Showings will be on Thursday\, November 20\, Friday\, November 21\, and Saturday\, November 22\, at 7:30 p.m. This production Directed by Kelly Russell\, will be in the Warren Theatre\, located inside the Center for the Arts.\n<div>&nbsp\;</div>\n\n<div>Join us for a timeless exploration of science versus authority and the responsibility of intellectuals to society\, Brecht&rsquo\;s drama is both a captivating personal story and a powerful critique of the dangers of suppressing free thought. Visit <a href="http://tamucc.tix.com">tamucc.tix.com</a> to view and purchase tickets.</div>\n\n<div>&nbsp\;</div>\n\n<div>To learn more about the Department of Music\, please visit <a href="http://tamucc.edu/samc/theatre/">tamucc.edu/samc/theatre/</a></div>\n</div>\n
LOCATION:Texas A&M University-Corpus Christi\, Warren Theatre\, Center for the Arts
UID:e.1866.30554
SEQUENCE:3
DTSTAMP:20260423T120324Z
URL:http://chamber.unitedcorpuschristi.org/events/details/life-of-galileo-11-15-2025-30554
END:VEVENT

END:VCALENDAR
