BEGIN:VCALENDAR
VERSION:2.0
PRODID:-//ChamberMaster//Event Calendar 2.0//EN
METHOD:PUBLISH
X-PUBLISHED-TTL:P3D
REFRESH-INTERVAL:P3D
CALSCALE:GREGORIAN
BEGIN:VEVENT
DTSTART:20250517T170000Z
DTEND:20250517T200000Z
X-MICROSOFT-CDO-ALLDAYEVENT:FALSE
SUMMARY:Lemonade Day with Robstown ISD
DESCRIPTION:Robstown ISD has partnered with Lemonade Day Coastal to showcase its local young entrepreneurs and their stands.\n\nThey are ready to put their knowledge to work\, so come out and support their efforts!
X-ALT-DESC;FMTTYPE=text/html:<p>Robstown ISD has partnered with Lemonade Day Coastal to showcase its local young entrepreneurs and their stands.</p>\n\n<p>They are ready to put their knowledge to work\, so come out and support their efforts!&nbsp\;&nbsp\;&nbsp\;&nbsp\;</p>\n
LOCATION:Hattie Martin Elementary School Check Map for locations https://lemonadeday.org/coastal-bend/stands-map
UID:e.1866.30141
SEQUENCE:3
DTSTAMP:20260423T221631Z
URL:http://chamber.unitedcorpuschristi.org/events/details/lemonade-day-with-robstown-isd-30141
END:VEVENT

END:VCALENDAR
