BEGIN:VCALENDAR
VERSION:2.0
PRODID:-//ChamberMaster//Event Calendar 2.0//EN
METHOD:PUBLISH
X-PUBLISHED-TTL:P3D
REFRESH-INTERVAL:P3D
CALSCALE:GREGORIAN
BEGIN:VEVENT
DTSTART:20260425T150000Z
DTEND:20260425T190000Z
X-MICROSOFT-CDO-ALLDAYEVENT:FALSE
SUMMARY:Lemonade Day Robstown
DESCRIPTION:Come out and support our young entrepreneurs as they launch their very own lemonade stands across Robstown! \n\nThis is a fun\, family-friendly event where kids get to showcase their creativity\, business skills\, and hard work while serving up fresh lemonade and big ideas.  \n\nStop by\, explore the stands\, and cheer on the next generation of local business leaders. Your support helps make their Lemonade Day experience unforgettable!\n\nWe can't wait to see you out there supporting our young ROCKSTAR entrepreneurs!   \n\n\n\n  When: Saturday\, April 25\n\n  Time: 10:00 AM   2:00 PM\n\n  Where: Hattie Martin Elementary\n\n701 N 1st St\, Robstown\, TX 78380\n\nHaven't registered for Lemonade Day 2026?\n\nVisit local.lemonadeday.org/coastal-bend
X-ALT-DESC;FMTTYPE=text/html:<div color:="" font-size:="" segoe="" style="background-color: rgb(255\, 255\, 255)\; margin-bottom: 0px\; margin-top: 0px\; font-family: " ui="">\n<div dir="auto" style="font-family: inherit\;">\n<div dir="auto" style="font-family: inherit\;">\n<p data-end="127" data-start="76" style="color: rgb(0\, 0\, 0)\; font-size: medium\;">&nbsp\;</p>\n\n<p data-end="246" data-start="137"><span style="font-size:16px\;">Come out and support our young entrepreneurs as they launch their very own lemonade stands across Robstown!</span>&#127819\;</p>\n\n<p data-end="411" data-start="248"><span style="font-size:16px\;">This is a fun\, family-friendly event where kids get to showcase their creativity\, business skills\, and hard work while serving up fresh lemonade and big ideas. &#11088\;</span></p>\n\n<p data-end="572" data-start="413"><span style="font-size:16px\;">Stop by\, explore the stands\, and cheer on the next generation of local business leaders. Your support helps make their Lemonade Day experience unforgettable!</span></p>\n\n<p data-end="658" data-is-last-node="" data-is-only-node="" data-start="574"><span style="font-size:16px\;">We can&rsquo\;t wait to see you out there supporting our young ROCKSTAR entrepreneurs! &#127928\;&#127819\;<br />\n<br />\n&#128197\; <strong data-end="547" data-start="538">When:</strong> Saturday\, April 25<br data-end="569" data-start="566" />\n&#128345\; <strong data-end="581" data-start="572">Time:</strong> 10:00 AM &ndash\; 2:00 PM<br data-end="603" data-start="600" />\n&#128205\; <strong data-end="616" data-start="606">Where:</strong>&nbsp\;Hattie Martin Elementary</span></p>\n\n<p data-end="710" data-start="535" style="color: rgb(0\, 0\, 0)\; font-size: medium\;"><span style="font-size:16px\;"><span style="color: rgb(31\, 31\, 31)\; font-family: Roboto\, Arial\, sans-serif\;">701 N 1st St\, Robstown\, TX 78380</span></span></p>\n\n<p data-end="828" data-start="712" style="color: rgb(0\, 0\, 0)\; font-size: medium\;"><span style="font-size:16px\;">Haven&#39\;t registered for Lemonade Day 2026?<br />\nVisit <a href="http://local.lemonadeday.org/coastal-bend">local.lemonadeday.org/coastal-bend</a>&nbsp\;</span></p>\n</div>\n</div>\n</div>\n
LOCATION:Where: Hattie Martin Elementary 701 N 1st St\, Robstown\, TX 78380
UID:e.1866.30935
SEQUENCE:3
DTSTAMP:20260422T231034Z
URL:http://chamber.unitedcorpuschristi.org/events/details/lemonade-day-robstown-30935
END:VEVENT

END:VCALENDAR
