BEGIN:VCALENDAR
VERSION:2.0
PRODID:-//ChamberMaster//Event Calendar 2.0//EN
METHOD:PUBLISH
X-PUBLISHED-TTL:P3D
REFRESH-INTERVAL:P3D
CALSCALE:GREGORIAN
BEGIN:VEVENT
DTSTART:20250604T210000Z
DTEND:20250605T000000Z
X-MICROSOFT-CDO-ALLDAYEVENT:FALSE
SUMMARY:Lemonade Day: Alice Registration Event
DESCRIPTION:Lemonade Day Coastal Bend continues to have our Young Entrepreneurs showing off their business skills through their Lemonade Day.  Come out and register with us!
X-ALT-DESC;FMTTYPE=text/html:Lemonade Day Coastal Bend continues to have our Young Entrepreneurs showing off their business skills through their Lemonade Day.&nbsp\; Come out and register with us!&nbsp\;&nbsp\;&nbsp\;&nbsp\;
LOCATION:Boys and Girls Club 793 S Texas Blvd\, Alice\, TX 78332
UID:e.1866.30117
SEQUENCE:3
DTSTAMP:20260423T205743Z
URL:http://chamber.unitedcorpuschristi.org/events/details/lemonade-day-alice-registration-event-30117
END:VEVENT

END:VCALENDAR
