BEGIN:VCALENDAR
VERSION:2.0
PRODID:-//ChamberMaster//Event Calendar 2.0//EN
METHOD:PUBLISH
X-PUBLISHED-TTL:P3D
REFRESH-INTERVAL:P3D
CALSCALE:GREGORIAN
BEGIN:VEVENT
DTSTART;VALUE=DATE:20250225
DTEND;VALUE=DATE:20250226
TRANSP:TRANSPARENT
X-MICROSOFT-CDO-ALLDAYEVENT:TRUE
SUMMARY:Islander Homecoming 2025
DESCRIPTION:Texas A&M University-Corpus Christi is celebrating decades of academic prestige\, student success\, and Islander tradition during Island Homecoming 2025\, held Feb. 23-March 1.\n\n\n\nTogether with the Coastal Bend community\, Islander students\, faculty\, staff\, and alumni are invited to show their Islander Spirit and join in the fun through the annual Lighting of the "I"\, basketball games\, and a variety of other opportunities and activities!\n\n\n\nFor more information on Homecoming 2025\, including a full list of events\, visit islanderhoco.com.
X-ALT-DESC;FMTTYPE=text/html:<span style="font-family:tahoma\,sans-serif"><span style="font-size:11.0pt">Texas A&amp\;M University-Corpus Christi is celebrating decades of academic prestige\, student success\, and Islander tradition during Island Homecoming 2025\, held Feb. 23-March 1.<br />\n<br />\nTogether with the Coastal Bend community\, Islander students\, faculty\, staff\, and alumni are invited to show their Islander Spirit and join in the fun through the annual Lighting of the &ldquo\;I&rdquo\;\, basketball games\, and a variety of other opportunities and activities!<br />\n<br />\nFor more information on Homecoming 2025\, including a full list of events\, visit</span></span> <a href="https://islanderhoco.com/"><span style="font-family:tahoma\,sans-serif"><span style="font-size:11.0pt">islanderhoco.com</span></span></a><span style="font-family:tahoma\,sans-serif"><span style="font-size:11.0pt">.</span></span>
LOCATION:Texas A&M University-Corpus Christi
UID:e.1866.29953
SEQUENCE:3
DTSTAMP:20260424T020457Z
URL:http://chamber.unitedcorpuschristi.org/events/details/islander-homecoming-2025-02-25-2025-29953
END:VEVENT

END:VCALENDAR
