BEGIN:VCALENDAR
VERSION:2.0
PRODID:-//ChamberMaster//Event Calendar 2.0//EN
METHOD:PUBLISH
X-PUBLISHED-TTL:P3D
REFRESH-INTERVAL:P3D
CALSCALE:GREGORIAN
BEGIN:VEVENT
DTSTART:20251203T013000Z
DTEND:20251203T023000Z
X-MICROSOFT-CDO-ALLDAYEVENT:FALSE
SUMMARY:Island Dance Demo
DESCRIPTION:The Department of Theatre and Dance at Texas A&M University-Corpus Christi is thrilled to present the Island Dance Demo on Tuesday\, Dec. 2\, at 7:30 p.m. in the Warren Theatre\, inside the Center for the Arts.\n\n\n\nProduced by TAMU-CC's Assistant Professor of Dance\, Sarah Gonzalez\, with collaboration from Professor of Dance\, Jilissa Cotten\, the TAMU-CC Dance Company\, The Stage\, and other talented student performers\, this event showcases student creativity and technical skill in an electrifying performance of original choreography and dance.\n\n\n\nGeneral Admission tickets are $12 or $10 for seniors 65+\, students\, and military\, and can be purchased at www.tamucc.tix.com
X-ALT-DESC;FMTTYPE=text/html:The Department of Theatre and Dance at Texas A&amp\;M University-Corpus Christi is thrilled to present the Island Dance Demo on Tuesday\, Dec. 2\, at 7:30 p.m. in the Warren Theatre\, inside the Center for the Arts.<br />\n<br />\nProduced by TAMU-CC&rsquo\;s Assistant Professor of Dance\, Sarah Gonzalez\, with collaboration from Professor of Dance\, Jilissa Cotten\, the TAMU-CC Dance Company\, The Stage\, and other talented student performers\, this event showcases student creativity and technical skill in an electrifying performance of original choreography and dance.<br />\n<br />\nGeneral Admission tickets are $12 or $10 for seniors 65+\, students\, and military\, and can be purchased at <a href="http://www.tamucc.tix.com">www.tamucc.tix.com</a>
LOCATION:Warren Theatre Center for the Arts Texas A&M University Corpus Christi 6300 Ocean Drive Corpus Christi\, TX 78412
UID:e.1866.30566
SEQUENCE:3
DTSTAMP:20260419T210219Z
URL:http://chamber.unitedcorpuschristi.org/events/details/island-dance-demo-12-02-2025-30566
END:VEVENT

END:VCALENDAR
