BEGIN:VCALENDAR
VERSION:2.0
PRODID:-//ChamberMaster//Event Calendar 2.0//EN
METHOD:PUBLISH
X-PUBLISHED-TTL:P3D
REFRESH-INTERVAL:P3D
CALSCALE:GREGORIAN
BEGIN:VEVENT
DTSTART:20251104T150000Z
DTEND:20251104T180000Z
X-MICROSOFT-CDO-ALLDAYEVENT:FALSE
SUMMARY:Intro to QuickBooks Online Payroll - WEBINAR
DESCRIPTION:Join us for a free webinar designed to help you get up and running with Intro to QuickBooks Online Payroll the go-to accounting solution for small businesses. In this session\, you'll learn how to set up your payroll account\, add employees\, run payroll\, pay your team\, and handle payroll taxes with confidence. Perfect for small business owners\, bookkeepers\, and anyone new to QuickBooks Online Payroll.\n\n*The webinar link will be emailed to you after you have completed registration. \n\n \n\nPresented by: Rita McDaniel\, Certified QuickBooks Pro Advisor
X-ALT-DESC;FMTTYPE=text/html:<p>Join us for a free webinar designed to help you get up and running with <strong>Intro to</strong>&nbsp\;<strong>QuickBooks Online <em>Payroll</em></strong>&mdash\;the go-to accounting solution for small businesses. In this session\, you&#39\;ll learn how to set up your payroll account\, add employees\, run payroll\, pay your team\, and handle payroll taxes with confidence. Perfect for small business owners\, bookkeepers\, and anyone new to QuickBooks Online Payroll.</p>\n\n<p>*The webinar link will be emailed to you after you have completed registration.&nbsp\;<br />\n&nbsp\;</p>\n\n<p>Presented by: Rita McDaniel\, Certified QuickBooks Pro Advisor</p>\n
LOCATION:Webinar
UID:e.1866.30254
SEQUENCE:3
DTSTAMP:20260423T132520Z
URL:http://chamber.unitedcorpuschristi.org/events/details/intro-to-quickbooks-online-payroll-webinar-30254
END:VEVENT

END:VCALENDAR
