BEGIN:VCALENDAR
VERSION:2.0
PRODID:-//ChamberMaster//Event Calendar 2.0//EN
METHOD:PUBLISH
X-PUBLISHED-TTL:P3D
REFRESH-INTERVAL:P3D
CALSCALE:GREGORIAN
BEGIN:VEVENT
DTSTART:20250521T200000Z
DTEND:20250521T230000Z
X-MICROSOFT-CDO-ALLDAYEVENT:FALSE
SUMMARY:Intake session for home buyers and home repair
DESCRIPTION:CDCB is hosting an intake session for those interested in purchasing a home or home repair.  We are proud to offer down payment assistance through the City of Corpus Christi for first time homebuyers\, and very low-interest rate loans for those seeking home repair.
X-ALT-DESC;FMTTYPE=text/html:CDCB is hosting an intake session for those interested in purchasing a home or home repair.&nbsp\; We are proud to offer down payment assistance through the City of Corpus Christi for first time homebuyers\, and very low-interest rate loans for those seeking home repair.
LOCATION:1022 Santa Fe. Corpus Christi\, TX 78404
UID:e.1866.30142
SEQUENCE:3
DTSTAMP:20260423T222742Z
URL:http://chamber.unitedcorpuschristi.org/events/details/intake-session-for-home-buyers-and-home-repair-30142
END:VEVENT

END:VCALENDAR
