BEGIN:VCALENDAR
VERSION:2.0
PRODID:-//ChamberMaster//Event Calendar 2.0//EN
METHOD:PUBLISH
X-PUBLISHED-TTL:P3D
REFRESH-INTERVAL:P3D
CALSCALE:GREGORIAN
BEGIN:VEVENT
DTSTART:20251119T173000Z
DTEND:20251119T190000Z
X-MICROSOFT-CDO-ALLDAYEVENT:FALSE
SUMMARY:Innovation Center Lunch and Learn – Stay Ahead of Hackers: Master Cyber Smart Habits
DESCRIPTION:Presented by Larry Medrano\, Cybersecurity Manager at the Port of Corpus Christi\, this session is designed to empower small business owners with the knowledge and tools to protect their digital assets.\n\nYou will learn to:\n\n\n	Detect Hidden Threats: Understand the most pressing cyber risks facing local businesses\, including recent credential theft campaigns.\n	Apply "Ninja Moves": Gain practical\, actionable strategies to reduce your digital footprint and strengthen your defenses. This is a crucial element of "cyber hygiene"\, which refers to the routine practices individuals and organizations use to maintain the health and security of their systems and data.\n	Elevate Your Cyber Hygiene: Learn to adopt a security-centric mindset and habits that can protect you from online threats.\n	Access Actionable Resources: Leave with a prescriptive list of resources and next steps to keep your business safe.\n\n\nThis is a must-attend session for any entrepreneur looking to safeguard their business in a rapidly evolving digital landscape.
X-ALT-DESC;FMTTYPE=text/html:<p>Presented by Larry Medrano\, Cybersecurity Manager at the Port of Corpus Christi\, this session is designed to empower small business owners with the knowledge and tools to protect their digital assets.</p>\n\n<p>You will learn to:</p>\n\n<ul>\n	<li><strong>Detect Hidden Threats</strong>: Understand the most pressing cyber risks facing local businesses\, including recent credential theft campaigns.</li>\n	<li><strong>Apply &quot\;Ninja Moves&quot\;</strong>: Gain practical\, actionable strategies to reduce your digital footprint and strengthen your defenses. This is a crucial element of &quot\;cyber hygiene&quot\;\, which refers to the routine practices individuals and organizations use to maintain the health and security of their systems and data.</li>\n	<li><strong>Elevate Your Cyber Hygiene</strong>: Learn to adopt a security-centric mindset and habits that can protect you from online threats.</li>\n	<li><strong>Access Actionable Resources</strong>: Leave with a prescriptive list of resources and next steps to keep your business safe.</li>\n</ul>\n\n<p>This is a must-attend session for any entrepreneur looking to safeguard their business in a rapidly evolving digital landscape.</p>\n
LOCATION:10201 S Padre Island Dr.\, Corpus Christi Texas 78418
UID:e.1866.30478
SEQUENCE:3
DTSTAMP:20260423T120145Z
URL:http://chamber.unitedcorpuschristi.org/events/details/innovation-center-lunch-and-learn-stay-ahead-of-hackers-master-cyber-smart-habits-30478
END:VEVENT

END:VCALENDAR
