BEGIN:VCALENDAR
VERSION:2.0
PRODID:-//ChamberMaster//Event Calendar 2.0//EN
METHOD:PUBLISH
X-PUBLISHED-TTL:P3D
REFRESH-INTERVAL:P3D
CALSCALE:GREGORIAN
BEGIN:VEVENT
DTSTART:20251105T150000Z
DTEND:20251105T160000Z
X-MICROSOFT-CDO-ALLDAYEVENT:FALSE
SUMMARY:Infrastructure & Mobility Committee
DESCRIPTION:Want to know about the major infrastructure projects and needs in our community?  The Infrastructure committee has guest speakers every month to keep us informed about city streets\, the Harbor Bridge\, development projects and much more. \n\n\n\nFor more info contact: Ginny@unitedcorpuschristi.org
X-ALT-DESC;FMTTYPE=text/html:<span style="color: rgb(63\, 63\, 63)\; font-family: verdana\; font-size: 20px\;">Want to know about the major infrastructure projects and needs in our community?&nbsp\; The Infrastructure committee has guest speakers every month to keep us informed about city streets\, the Harbor Bridge\, development projects and much more.&nbsp\;</span><br style="box-sizing: border-box\; color: rgb(63\, 63\, 63)\; font-family: verdana\; font-size: 20px\;" />\n<br style="box-sizing: border-box\; color: rgb(63\, 63\, 63)\; font-family: verdana\; font-size: 20px\;" />\n<span style="color: rgb(63\, 63\, 63)\; font-family: verdana\; font-size: 20px\;">For more info contact: Ginny@unitedcorpuschristi.org</span>
LOCATION:Corpus Christi Museum of Science and History 1900 N. Chaparral Street
UID:e.1866.29886
SEQUENCE:3
DTSTAMP:20260423T134616Z
URL:http://chamber.unitedcorpuschristi.org/events/details/infrastructure-mobility-committee-11-05-2025-29886
END:VEVENT

END:VCALENDAR
