BEGIN:VCALENDAR
VERSION:2.0
PRODID:-//ChamberMaster//Event Calendar 2.0//EN
METHOD:PUBLISH
X-PUBLISHED-TTL:P3D
REFRESH-INTERVAL:P3D
CALSCALE:GREGORIAN
BEGIN:VEVENT
DTSTART:20240814T140000Z
DTEND:20240814T150000Z
X-MICROSOFT-CDO-ALLDAYEVENT:FALSE
SUMMARY:Education & Workforce Committee
DESCRIPTION:Are you a business owner or community leader interested in education & workforce development?  We invite you to join the United Corpus Christi Chamber of Commerce Education & Workforce Committee.\n\n\n\nThe United Corpus Christi Chamber of Commerce Education & Workforce Committee strategically focuses on collaboration\, aggregating\, and leveraging resources in partnership with like-minded organizations and individuals in the community\, making data-driven decisions to significantly impact the preparation of the local workforce for the economic development of the community.  \n\n\n\nCommittee Chair:  Chris Majors\, United Corpus Christi Board Member\n\nCommittee Staff:  Hope Frances Rangel\, VP Diversity & Inclusion
X-ALT-DESC;FMTTYPE=text/html:<span style="font-size:16px\;"><span style="font-family:arial\;">Are you a business owner or community leader interested in education &amp\; workforce development?&nbsp\; We invite you to join the United Corpus Christi Chamber of Commerce Education &amp\; Workforce Committee.<br />\n<br />\nThe United Corpus Christi Chamber of Commerce Education &amp\; Workforce Committee strategically focuses on collaboration\, aggregating\, and leveraging resources in partnership with like-minded organizations and individuals in the community\, making data-driven decisions to significantly impact the preparation of the local workforce for the economic development of the community.&nbsp\;&nbsp\;<br />\n<br />\nCommittee Chair:&nbsp\; Chris Majors\, United Corpus Christi Board Member<br />\nCommittee Staff:&nbsp\; Hope Frances Rangel\, VP Diversity &amp\; Inclusion</span></span><br />\n<br />\n<br />\n<br />\n&nbsp\;
LOCATION:United Corpus Christi Chamber of Commerce 602 N Staples\, Suite 150\, Corpus Christi\, TX Please park in the visitors parking lot located at Waco and Leopard St You can enter thru the Chamber entrance. Door is located on the Leopard side of the CCRTA building.
UID:e.1866.29070
SEQUENCE:3
DTSTAMP:20260424T094913Z
URL:http://chamber.unitedcorpuschristi.org/events/details/education-workforce-committee-08-14-2024-29070
END:VEVENT

END:VCALENDAR
