BEGIN:VCALENDAR
VERSION:2.0
PRODID:-//ChamberMaster//Event Calendar 2.0//EN
METHOD:PUBLISH
X-PUBLISHED-TTL:P3D
REFRESH-INTERVAL:P3D
CALSCALE:GREGORIAN
BEGIN:VEVENT
DTSTART:20250225T150000Z
DTEND:20250225T150000Z
X-MICROSOFT-CDO-ALLDAYEVENT:FALSE
SUMMARY:Economic Empowerment Committee
DESCRIPTION:Are you a business owner interested in business resources\, procurement opportunities or want to learn more about serving on a board or commission? Then join us at our next Economic Empowerment Committee Meeting!\n\n \n\nThe Economic Empowerment Committee (formerly Diversity & Inclusion Committee) focuses on fostering economic development and opportunities to inspire entrepreneurship of small\, diverse\, emerging businesses through collaboration\, partnerships and leveraging resources.\n\n\n\nFor more info: Hope@unitedcorpuschristi.org\n\n\n\nAgenda
X-ALT-DESC;FMTTYPE=text/html:<p class="p1" color:="" helvetica="" style="margin: 0px\; font-variant-numeric: normal\; font-variant-east-asian: normal\; font-variant-alternates: normal\; font-size-adjust: none\; font-kerning: auto\; font-optical-sizing: auto\; font-feature-settings: normal\; font-variation-settings: normal\; font-variant-position: normal\; font-stretch: normal\; line-height: normal\; font-family: "><span style="font-size:20px\;"><span style="font-family:verdana\;">Are you a business owner interested in business resources\, procurement opportunities or want to learn more about serving on a board or commission? Then join us at our next Economic Empowerment Committee Meeting!</span></span></p>\n\n<p class="p2" color:="" helvetica="" min-height:="" style="margin: 0px\; font-variant-numeric: normal\; font-variant-east-asian: normal\; font-variant-alternates: normal\; font-size-adjust: none\; font-kerning: auto\; font-optical-sizing: auto\; font-feature-settings: normal\; font-variation-settings: normal\; font-variant-position: normal\; font-stretch: normal\; line-height: normal\; font-family: ">&nbsp\;</p>\n\n<p class="p1" color:="" helvetica="" style="margin: 0px\; font-variant-numeric: normal\; font-variant-east-asian: normal\; font-variant-alternates: normal\; font-size-adjust: none\; font-kerning: auto\; font-optical-sizing: auto\; font-feature-settings: normal\; font-variation-settings: normal\; font-variant-position: normal\; font-stretch: normal\; line-height: normal\; font-family: "><span style="font-size:20px\;"><span style="font-family:verdana\;">The Economic Empowerment Committee (formerly Diversity &amp\; Inclusion Committee) focuses on fostering economic development and opportunities to inspire entrepreneurship of small\, diverse\, emerging businesses through collaboration\, partnerships and leveraging resources.<br />\n<br />\nFor more info: Hope@unitedcorpuschristi.org<br />\n<br />\n<a href="https://chambermaster.blob.core.windows.net/userfiles/UserFiles/chambers/1866/File/Hope/EconomicEmpowermentAgenda2.25.2025.pdf">Agenda</a> </span></span></p>\n
LOCATION:In-person: Corpus Christi Regional Transportation Authority (CCRTA) 602 N. Staples\, Corpus Christi\, TX 78401 Please enter thru the United Corpus Christi Chamber of Commerce entrance (Suite 150\, door faces Leopard Street). Allow time to go thru security at the main entrance of the building Parking is available for free at the CCRTA Visitors lot located at Leopard & Waco Street\, directly behind the CCRTA Building or meters along Leopard Street. Join Microsoft Teams Meeting ID: 277016638161 Passcode: cu7mZ97P
UID:e.1866.29890
SEQUENCE:3
DTSTAMP:20260424T020516Z
URL:http://chamber.unitedcorpuschristi.org/events/details/economic-empowerment-committee-29890
END:VEVENT

END:VCALENDAR
