BEGIN:VCALENDAR
VERSION:2.0
PRODID:-//ChamberMaster//Event Calendar 2.0//EN
METHOD:PUBLISH
X-PUBLISHED-TTL:P3D
REFRESH-INTERVAL:P3D
CALSCALE:GREGORIAN
BEGIN:VEVENT
DTSTART:20250128T150000Z
DTEND:20250128T150000Z
X-MICROSOFT-CDO-ALLDAYEVENT:FALSE
SUMMARY:Economic Empowerment Committee
DESCRIPTION:Are you a business owner interested in business resources\, procurement opportunities or want to learn more about serving on a board or commission? Then join us at our next Economic Empowerment Committee Meeting!\n\n \n\nThe Economic Empowerment Committee (formerly Diversity & Inclusion Committee) is focuses on fostering economic development and opportunities to inspire entrepreneurship of small\, diverse\, emerging businesses through collaboration\, partnerships and leveraging resources.\n\n\n\nFor more info: Hope@unitedcorpuschristi.org
X-ALT-DESC;FMTTYPE=text/html:<p class="p1" style="margin: 0px\; font-variant-numeric: normal\; font-variant-east-asian: normal\; font-variant-alternates: normal\; font-size-adjust: none\; font-kerning: auto\; font-optical-sizing: auto\; font-feature-settings: normal\; font-variation-settings: normal\; font-variant-position: normal\; font-stretch: normal\; line-height: normal\; font-family: &quot\;Helvetica Neue&quot\;\; color: rgb(0\, 0\, 0)\;"><span style="font-size:20px\;"><span style="font-family:verdana\;">Are you a business owner interested in business resources\, procurement opportunities or want to learn more about serving on a board or commission? Then join us at our next Economic Empowerment Committee Meeting!</span></span></p>\n\n<p class="p2" style="margin: 0px\; font-variant-numeric: normal\; font-variant-east-asian: normal\; font-variant-alternates: normal\; font-size-adjust: none\; font-kerning: auto\; font-optical-sizing: auto\; font-feature-settings: normal\; font-variation-settings: normal\; font-variant-position: normal\; font-stretch: normal\; line-height: normal\; font-family: &quot\;Helvetica Neue&quot\;\; min-height: 15px\; color: rgb(0\, 0\, 0)\;">&nbsp\;</p>\n\n<p class="p1" style="margin: 0px\; font-variant-numeric: normal\; font-variant-east-asian: normal\; font-variant-alternates: normal\; font-size-adjust: none\; font-kerning: auto\; font-optical-sizing: auto\; font-feature-settings: normal\; font-variation-settings: normal\; font-variant-position: normal\; font-stretch: normal\; line-height: normal\; font-family: &quot\;Helvetica Neue&quot\;\; color: rgb(0\, 0\, 0)\;"><span style="font-size:20px\;"><span style="font-family:verdana\;">The Economic Empowerment Committee (formerly Diversity &amp\; Inclusion Committee) is focuses on fostering economic development and opportunities to inspire entrepreneurship of small\, diverse\, emerging businesses through collaboration\, partnerships and leveraging resources.<br />\n<br />\nFor more info: Hope@unitedcorpuschristi.org</span></span></p>\n
LOCATION:602 North Staples\, Corpus Christi\, TX 78401 CCRTA Building\, 3rd Floor\, Multipurpose Room 324 Please allow time to go thru security at the main entrance of the building Parking is available for free at the CCRTA Visitors lot located at Leopard & Waco Street\, directly behind the CCRTA Building or meters along Leopard Street.
UID:e.1866.29889
SEQUENCE:3
DTSTAMP:20260424T031548Z
URL:http://chamber.unitedcorpuschristi.org/events/details/economic-empowerment-committee-29889
END:VEVENT

END:VCALENDAR
