BEGIN:VCALENDAR
VERSION:2.0
PRODID:-//ChamberMaster//Event Calendar 2.0//EN
METHOD:PUBLISH
X-PUBLISHED-TTL:P3D
REFRESH-INTERVAL:P3D
CALSCALE:GREGORIAN
BEGIN:VEVENT
DTSTART:20250219T150000Z
DTEND:20250219T170000Z
X-MICROSOFT-CDO-ALLDAYEVENT:FALSE
SUMMARY:Doing Business with Giants - Prime Contractor Requirements
DESCRIPTION:Prime Contractor Requirements provides small businesses with information and specific obligations that may be needed to participate with prime contractors\, including issues such as the utilization of Minority and Women-Owned Business Enterprises and Disadvantaged Business Enterprises on goal-oriented construction\, professional services\, and goods and services contracts.\n\n \n\nThe Coastal Bend Business Innovation Center (CBBIC) at Texas A&M University-Corpus Christi (TAMU-CC)\, and Cheniere Energy\, Inc.(Cheniere) have teamed up to facilitate a series of six workshops designed to assist innovative\, local entrepreneurs in developing business models that align with and fulfill industry supply-chain needs while strengthening the local economy.\n\nAt the conclusion of the six workshops\, participants can apply for awards from Cheniere for up to $20\,000. These awards are open to those small businesses and entrepreneurs who complete all six workshops and are within the SIC/NAICS codes designated by Cheniere. For more information and to register please visit https://CBBICGiants2025.eventbrite.com\n\n*These awards are open to all small businesses and entrepreneurs in the Coastal Bend who complete all six workshops and meet application criteria.*
X-ALT-DESC;FMTTYPE=text/html:<p style="margin: 0px\; padding: 0px\; box-sizing: border-box\; font-size: 16px\; line-height: 1.5rem\; color: rgb(111\, 114\, 135)\; font-family: &quot\;Neue Plak&quot\;\, -apple-system\, BlinkMacSystemFont\, Roboto\, &quot\;Helvetica Neue&quot\;\, Helvetica\, Tahoma\, Arial\, sans-serif\;"><span style="font-family:arial\;"><span style="font-size:22px\;"><span style="color:#000000\;">Prime Contractor Requirements provides small businesses with information and specific obligations that may be needed to participate with prime contractors\, including issues such as the utilization of Minority and Women-Owned Business Enterprises and Disadvantaged Business Enterprises on goal-oriented construction\, professional services\, and goods and services contracts.</span></span></span><br />\n&nbsp\;</p>\n\n<p style="margin: 0px\; padding: 0px\; box-sizing: border-box\; font-size: 16px\; line-height: 1.5rem\; color: rgb(111\, 114\, 135)\; font-family: &quot\;Neue Plak&quot\;\, -apple-system\, BlinkMacSystemFont\, Roboto\, &quot\;Helvetica Neue&quot\;\, Helvetica\, Tahoma\, Arial\, sans-serif\;"><span style="font-family:arial\;"><span style="font-size: 22px\;"><span style="color: rgb(0\, 0\, 0)\;">The Coastal Bend Business Innovation Center (CBBIC) at Texas A&amp\;M University-Corpus Christi (TAMU-CC)\, and Cheniere Energy\, Inc.(Cheniere) have teamed up to facilitate a series of six workshops designed to assist innovative\, local entrepreneurs in developing business models that align with and fulfill industry supply-chain needs while strengthening the local economy.</span></span></span></p>\n\n<p style="margin: 0px\; padding: 10px 0px 0px\; box-sizing: border-box\; font-size: 16px\; line-height: 1.5rem\; color: rgb(111\, 114\, 135)\; font-family: &quot\;Neue Plak&quot\;\, -apple-system\, BlinkMacSystemFont\, Roboto\, &quot\;Helvetica Neue&quot\;\, Helvetica\, Tahoma\, Arial\, sans-serif\;"><span style="font-family:arial\;"><span style="font-size: 22px\;"><span style="color: rgb(0\, 0\, 0)\;">At the conclusion of the six workshops\, participants can apply for awards from Cheniere for up to $20\,000. These awards are open to those small businesses and entrepreneurs who complete all six workshops and are within the SIC/NAICS codes designated by Cheniere. For more information and to register please visit https://CBBICGiants2025.eventbrite.com</span></span></span></p>\n\n<p style="margin: 0px\; padding: 10px 0px 0px\; box-sizing: border-box\; font-size: 16px\; line-height: 1.5rem\; color: rgb(111\, 114\, 135)\; font-family: &quot\;Neue Plak&quot\;\, -apple-system\, BlinkMacSystemFont\, Roboto\, &quot\;Helvetica Neue&quot\;\, Helvetica\, Tahoma\, Arial\, sans-serif\;"><span style="font-family:arial\;"><span style="font-size: 22px\;"><span style="color: rgb(0\, 0\, 0)\;">*These awards are open to all small businesses and entrepreneurs in the Coastal Bend&nbsp\;<em style="box-sizing: border-box\; padding-top: 0px\;">who complete all six workshops and meet application criteria</em>.*</span></span></span></p>\n
LOCATION:
UID:e.1866.29989
SEQUENCE:3
DTSTAMP:20260424T020324Z
URL:http://chamber.unitedcorpuschristi.org/events/details/doing-business-with-giants-prime-contractor-requirements-29989
END:VEVENT

END:VCALENDAR
