BEGIN:VCALENDAR
VERSION:2.0
PRODID:-//ChamberMaster//Event Calendar 2.0//EN
METHOD:PUBLISH
X-PUBLISHED-TTL:P3D
REFRESH-INTERVAL:P3D
CALSCALE:GREGORIAN
BEGIN:VEVENT
DTSTART:20251115T170000Z
DTEND:20251115T200000Z
X-MICROSOFT-CDO-ALLDAYEVENT:FALSE
SUMMARY:Community FAFSA® Workshop
DESCRIPTION:The 2026-2027 Free Application for Federal Student Aid (FAFSA ) is now open\, and incoming and current university students are encouraged to submit their FAFSA  as soon as possible.\n\n\n\nThe Office of Student Financial Assistance at Texas A&M University-Corpus Christi will hold two FAFSA  workshops in the community to help students with completing their application.\n\n\n\nThe first workshop is on Thursday\, Nov. 13\, from 5-7 p.m. at the Bell Whittington Public Library in Portland\, 2400 Memorial Pkwy. The second workshop is scheduled for Saturday\, Nov. 15\, from 11 a.m. to 2 p.m. at the Keach Family Library in Robstown\, 1000 Terry Shamsie Blvd.\n\n\n\nAttendees must bring the following information to file their FAFSA application during the event:\n\n\n\n  Cellphone and Laptop\n\n  FSA ID login information (student & parent)\n\n  2024 Federal Tax Information (1040's & W2's)\n\n  Parent email address\n\n\n\nFor more information\, visit tamucc.edu/fafsa\, email FAOweb@tamucc.edu\, or call 361.825.2338.
X-ALT-DESC;FMTTYPE=text/html:The 2026-2027 Free Application for Federal Student Aid (FAFSA&reg\;) is now open\, and incoming and current university students are encouraged to submit their FAFSA&reg\; as soon as possible.<br />\n<br />\nThe Office of Student Financial Assistance at Texas A&amp\;M University-Corpus Christi will hold two FAFSA&reg\; workshops in the community to help students with completing their application.<br />\n<br />\nThe first workshop is on Thursday\, Nov. 13\, from 5-7 p.m. at the Bell Whittington Public Library in Portland\, 2400 Memorial Pkwy. The second workshop is scheduled for Saturday\, Nov. 15\, from 11 a.m. to 2 p.m. at the Keach Family Library in Robstown\, 1000 Terry Shamsie Blvd.<br />\n<br />\nAttendees must bring the following information to file their FAFSA application during the event:<br />\n<br />\n&bull\; Cellphone and Laptop<br />\n&bull\; FSA ID login information (student &amp\; parent)<br />\n&bull\; 2024 Federal Tax Information (1040&rsquo\;s &amp\; W2&rsquo\;s)<br />\n&bull\; Parent email address<br />\n<br />\nFor more information\, visit <a href="http://tamucc.edu/fafsa">tamucc.edu/fafsa</a>\, email FAOweb@tamucc.edu\, or call 361.825.2338.
LOCATION:Keach Family Library\, Robstown\, TX
UID:e.1866.30525
SEQUENCE:3
DTSTAMP:20260423T132629Z
URL:http://chamber.unitedcorpuschristi.org/events/details/community-fafsa-workshop-11-15-2025-30525
END:VEVENT

END:VCALENDAR
