BEGIN:VCALENDAR
VERSION:2.0
PRODID:-//ChamberMaster//Event Calendar 2.0//EN
METHOD:PUBLISH
X-PUBLISHED-TTL:P3D
REFRESH-INTERVAL:P3D
CALSCALE:GREGORIAN
BEGIN:VEVENT
DTSTART:20250320T210000Z
DTEND:20250321T000000Z
X-MICROSOFT-CDO-ALLDAYEVENT:FALSE
SUMMARY:Ceremony Celebration for Brookdale Trinity Towers
DESCRIPTION:40th Anniversary Celebration!  \n\n\n\nJoin us at the Brookdale Trinity Towers as we celebrate 40 amazing years in the community!   This special milestone is a time to reflect on their journey\, connect with friends\, and look forward to the future.  \n\n\n\n  Date: Thursday\, March 20\, 2025\n\n  Time: 4:00 PM - 7:00 PM\n\n  Ribbon Cutting Time: 5:00 PM\n\n  Location: 101 N. Upper Broadway\, Corpus Christi\, TX 78401\n\n\n\nLet's come together to honor this incredible achievement. Bring your friends and celebrate with us! We can't wait to see you there!
X-ALT-DESC;FMTTYPE=text/html:&#127881\; 40th Anniversary Celebration! &#127880\;<br />\n<br />\nJoin us at the Brookdale Trinity Towers as we celebrate 40 amazing years in the community! &#127775\; This special milestone is a time to reflect on their journey\, connect with friends\, and look forward to the future. &#127882\;<br />\n<br />\n&#128197\; Date: Thursday\, March 20\, 2025<br />\n&#9200\; Time: 4:00 PM - 7:00 PM<br />\n&#127872\; Ribbon Cutting Time: <strong>5:00 PM</strong><br />\n&#128205\; Location: 101 N. Upper Broadway\, Corpus Christi\, TX 78401<br />\n<br />\nLet&rsquo\;s come together to honor this incredible achievement. Bring your friends and celebrate with us! We can&rsquo\;t wait to see you there! &#127881\;
LOCATION:
UID:e.1866.29961
SEQUENCE:3
DTSTAMP:20260424T005806Z
URL:http://chamber.unitedcorpuschristi.org/events/details/ceremony-celebration-for-brookdale-trinity-towers-29961
END:VEVENT

END:VCALENDAR
