BEGIN:VCALENDAR
VERSION:2.0
PRODID:-//ChamberMaster//Event Calendar 2.0//EN
METHOD:PUBLISH
X-PUBLISHED-TTL:P3D
REFRESH-INTERVAL:P3D
CALSCALE:GREGORIAN
BEGIN:VEVENT
DTSTART:20251210T160000Z
DTEND:20251210T170000Z
X-MICROSOFT-CDO-ALLDAYEVENT:FALSE
SUMMARY:Budgeting: Is it worth it? The Basics of Creating a Budget - WEBINAR
DESCRIPTION:Take control of your finances with this interactive budgeting workshop! Learn why budgeting is essential and how to create a simple\, effective budget that helps you manage cash flow\, reduce stress\, and make smarter financial decisions. Whether you're just starting out or looking to refine your money management skills\, this webinar will give you the tools and confidence to build a solid financial foundation.\n\nWhat you'll learn: \n\n\n	Discover why budgeting is key to business success.\n	Learn easy steps to create a budget for your business.\n	Get tools to manage cash flow and stay stable.\n	Build confidence in smart financial decisions.\n	Ideal for owners wanting a stronger financial base.
X-ALT-DESC;FMTTYPE=text/html:<p>Take control of your finances with this interactive budgeting workshop! Learn why budgeting is essential and how to create a simple\, effective budget that helps you manage cash flow\, reduce stress\, and make smarter financial decisions. Whether you&#39\;re just starting out or looking to refine your money management skills\, this webinar will give you the tools and confidence to build a solid financial foundation.</p>\n\n<p>What you&#39\;ll learn:&nbsp\;</p>\n\n<ul>\n	<li>Discover why budgeting is key to business success.</li>\n	<li>Learn easy steps to create a budget for your business.</li>\n	<li>Get tools to manage cash flow and stay stable.</li>\n	<li>Build confidence in smart financial decisions.</li>\n	<li>Ideal for owners wanting a stronger financial base.</li>\n</ul>\n
LOCATION:webinar - online only
UID:e.1866.30550
SEQUENCE:3
DTSTAMP:20260419T210051Z
URL:http://chamber.unitedcorpuschristi.org/events/details/budgeting-is-it-worth-it-the-basics-of-creating-a-budget-webinar-30550
END:VEVENT

END:VCALENDAR
