BEGIN:VCALENDAR
VERSION:2.0
PRODID:-//ChamberMaster//Event Calendar 2.0//EN
METHOD:PUBLISH
X-PUBLISHED-TTL:P3D
REFRESH-INTERVAL:P3D
CALSCALE:GREGORIAN
BEGIN:VEVENT
DTSTART:20250213T013000Z
DTEND:20250213T023000Z
X-MICROSOFT-CDO-ALLDAYEVENT:FALSE
SUMMARY:BRAVO! Series: The Glenn Miller Orchestra
DESCRIPTION:Texas A&M University-Corpus Christi presents The Glenn Miller Orchestra as part of the 2024-2025 Furgason BRAVO! Concert Series.\n\n\n\nJust as it was in Glenn's day\, the Glenn Miller Orchestra today is still the most sought-after big band in the world. The current 18-member ensemble continues to play original and new arrangements of Glenn's music and other music of the era. The show will be held at 7:30 p.m. on Wednesday\, February 12\, at the Performing Arts Center.\n\n\n\nTicket prices are $35 for general admission and $25 for Seniors. TAMU-CC student tickets are $10 (with a valid SandDollar$ ID). There is a 15% discount on the purchase of three or more BRAVO performances together.\n\n\n\nPurchase tickets at tamucc.tix.com or call 361.825.ARTS. For more information\, visit pac.tamucc.edu/furgasonbravoseries.
X-ALT-DESC;FMTTYPE=text/html:<p><span style="font-family:tahoma\,sans-serif\; font-size:11.0pt">Texas A&amp\;M University-Corpus Christi presents The Glenn Miller Orchestra as part of the 2024-2025 Furgason BRAVO! Concert Series.<br />\n<br />\nJust as it was in Glenn&rsquo\;s day\, the Glenn Miller Orchestra today is still the most sought-after big band in the world. The current 18-member ensemble continues to play original and new arrangements of Glenn&rsquo\;s music and other music of the era. The show will be held at 7:30 p.m. on Wednesday\, February 12\, at the Performing Arts Center.<br />\n<br />\nTicket prices are $35 for general admission and $25 for Seniors. TAMU-CC student tickets are $10 (with a valid SandDollar$ ID). There is a 15% discount on the purchase of three or more BRAVO performances together.<br />\n<br />\nPurchase tickets at <a href="http://tamucc.tix.com">tamucc.tix.com</a> or call 361.825.ARTS. For more information\, visit <a href="http://pac.tamucc.edu/furgasonbravoseries.">pac.tamucc.edu/furgasonbravoseries.</a></span></p>\n
LOCATION:Texas A&M University-Corpus Christi\, Performing Arts Center
UID:e.1866.29959
SEQUENCE:3
DTSTAMP:20260424T022134Z
URL:http://chamber.unitedcorpuschristi.org/events/details/bravo-series-the-glenn-miller-orchestra-29959
END:VEVENT

END:VCALENDAR
