BEGIN:VCALENDAR
VERSION:2.0
PRODID:-//ChamberMaster//Event Calendar 2.0//EN
METHOD:PUBLISH
X-PUBLISHED-TTL:P3D
REFRESH-INTERVAL:P3D
CALSCALE:GREGORIAN
BEGIN:VEVENT
DTSTART:20251118T190000Z
DTEND:20251118T200000Z
X-MICROSOFT-CDO-ALLDAYEVENT:FALSE
SUMMARY:Bots\, Agents\, and AI That Work for You: Save Time and Stay Secure - WEBINAR
DESCRIPTION:This session introduces AI tools that help automate tasks\, improve customer service\, and enhance security. It explains the differences between bots\, agents\, and assistants\, and provides examples for both professional and industrial use. The session also addresses employee behavior and how to encourage adoption of new technologies.\n\nWhat you will learn: \n\n Understanding of practical AI tools for small businesses\n\n Increased efficiency in operations and customer support\n\n Improved employee engagement with new technology\n\n Safer vendor and customer interactions through AI
X-ALT-DESC;FMTTYPE=text/html:<p>This session introduces AI tools that help automate tasks\, improve customer service\, and enhance security. It explains the differences between bots\, agents\, and assistants\, and provides examples for both professional and industrial use. The session also addresses employee behavior and how to encourage adoption of new technologies.</p>\n\n<p><strong>What you will learn:&nbsp\;</strong><br />\n&bull\;Understanding of practical AI tools for small businesses<br />\n&bull\;Increased efficiency in operations and customer support<br />\n&bull\;Improved employee engagement with new technology<br />\n&bull\;Safer vendor and customer interactions through AI</p>\n
LOCATION:webinar - online
UID:e.1866.30548
SEQUENCE:3
DTSTAMP:20260423T132454Z
URL:http://chamber.unitedcorpuschristi.org/events/details/bots-agents-and-ai-that-work-for-you-save-time-and-stay-secure-webinar-30548
END:VEVENT

END:VCALENDAR
