BEGIN:VCALENDAR
VERSION:2.0
PRODID:-//ChamberMaster//Event Calendar 2.0//EN
METHOD:PUBLISH
X-PUBLISHED-TTL:P3D
REFRESH-INTERVAL:P3D
CALSCALE:GREGORIAN
BEGIN:VEVENT
DTSTART:20250214T173000Z
DTEND:20250214T190000Z
X-MICROSOFT-CDO-ALLDAYEVENT:FALSE
SUMMARY:Ambassadors Committee
DESCRIPTION:The Ambassador Committee provides support at chamber events\, assist in retention work\, recruit new members\, and actively expand the presence of the chamber in the community and with our members. Charged with identifying small business members\, assessing their needs\, needed resources\, services\; promoting small business (shop small and shop local) events in the community and small business growth development opportunities. \n\n \n\nFor more info: Gloria@unitedcorpuschristi.org
X-ALT-DESC;FMTTYPE=text/html:<p class="p1" style="margin: 0px\; font-variant-numeric: normal\; font-variant-east-asian: normal\; font-variant-alternates: normal\; font-size-adjust: none\; font-kerning: auto\; font-optical-sizing: auto\; font-feature-settings: normal\; font-variation-settings: normal\; font-variant-position: normal\; font-stretch: normal\; line-height: normal\; font-family: &quot\;Helvetica Neue&quot\;\; color: rgb(0\, 0\, 0)\;"><span style="font-size:20px\;"><span style="font-family:verdana\;">The Ambassador Committee provides support at chamber events\, assist in retention work\, recruit new members\, and actively expand the presence of the chamber in the community and with our members. Charged with identifying small business members\, assessing their needs\,&nbsp\;needed resources\, services\; promoting small business (shop small and shop local) events in the community and small business growth development opportunities.&nbsp\;</span></span></p>\n\n<p class="p2" style="margin: 0px\; font-variant-numeric: normal\; font-variant-east-asian: normal\; font-variant-alternates: normal\; font-size-adjust: none\; font-kerning: auto\; font-optical-sizing: auto\; font-feature-settings: normal\; font-variation-settings: normal\; font-variant-position: normal\; font-stretch: normal\; line-height: normal\; font-family: &quot\;Helvetica Neue&quot\;\; min-height: 15px\; color: rgb(0\, 0\, 0)\;">&nbsp\;</p>\n\n<p class="p1" style="margin: 0px\; font-variant-numeric: normal\; font-variant-east-asian: normal\; font-variant-alternates: normal\; font-size-adjust: none\; font-kerning: auto\; font-optical-sizing: auto\; font-feature-settings: normal\; font-variation-settings: normal\; font-variant-position: normal\; font-stretch: normal\; line-height: normal\; font-family: &quot\;Helvetica Neue&quot\;\; color: rgb(0\, 0\, 0)\;"><span style="font-size:20px\;"><span style="font-family:verdana\;">For more info: <a href="mailto:Gloria@unitedcorpuschristi.org">Gloria@unitedcorpuschristi.org</a></span></span></p>\n
LOCATION:Rotates each month to new member restaurant
UID:e.1866.29911
SEQUENCE:3
DTSTAMP:20260424T144526Z
URL:http://chamber.unitedcorpuschristi.org/events/details/ambassadors-committee-29911
END:VEVENT

END:VCALENDAR
