BEGIN:VCALENDAR
VERSION:2.0
PRODID:-//ChamberMaster//Event Calendar 2.0//EN
METHOD:PUBLISH
X-PUBLISHED-TTL:P3D
REFRESH-INTERVAL:P3D
CALSCALE:GREGORIAN
BEGIN:VEVENT
DTSTART:20250215T010000Z
DTEND:20250215T040000Z
X-MICROSOFT-CDO-ALLDAYEVENT:FALSE
SUMMARY:32nd Annual Stage Door Canteen
DESCRIPTION:The perfect date night this Valentine's Day\, enjoy a magical evening of music and nostalgia to celebrate the anniversary of the commissioning of this historic ship. This annual fundraising event is a dance that recreates the WWII-era "Canteen" shows when famous entertainers performed for service men and women at home and abroad. Headlining the star-studded cast will be the USS Lexington Big Band\, featuring vocalists Flicka Rahn\, Victoria Majors\, and David Hiser\, as well as special guest fiddler Scott Plant. Attendees are encouraged to wear their dancing shoes and dress in business casual\, 1940s era fashion\, or a WWII military uniform. Appetizers\, a cash bar\, and entertainment will be provided. Complimentary valet parking will be available.\n\n\n\nTickets can be purchased now at www.usslexington.com. Individual tickets are $65\; couple's tickets are $95. Sponsorships of varying levels are also available. Proceeds from this fundraising event will support continued restoration and maintenance of the USS Lexington Museum.\n\n\n\nOption to give local military personnel a fun and memorable experience by donating tickets or seats at your table. The USS Lexington Museum will invite individuals from local military installations to attend the Stage Door Canteen on your behalf.
X-ALT-DESC;FMTTYPE=text/html:The perfect date night this Valentine&rsquo\;s Day\, enjoy a magical evening of music and nostalgia to celebrate the anniversary of the commissioning of this historic ship. This annual fundraising event is a dance that recreates the WWII-era &ldquo\;Canteen&rdquo\; shows when famous entertainers performed for service men and women at home and abroad. Headlining the star-studded cast will be the USS Lexington Big Band\, featuring vocalists Flicka Rahn\, Victoria Majors\, and David Hiser\, as well as special guest fiddler Scott Plant. Attendees are encouraged to wear their dancing shoes and dress in business casual\, 1940s era fashion\, or a WWII military uniform. Appetizers\, a cash bar\, and entertainment will be provided. Complimentary valet parking will be available.<br />\n<br />\nTickets can be purchased now at www.usslexington.com. Individual tickets are $65\; couple&rsquo\;s tickets are $95. Sponsorships of varying levels are also available. Proceeds from this fundraising event will support continued restoration and maintenance of the USS Lexington Museum.<br />\n<br />\nOption to give local military personnel a fun and memorable experience by donating tickets or seats at your table. The USS Lexington Museum will invite individuals from local military installations to attend the Stage Door Canteen on your behalf.
LOCATION:USS Lexington Museum\, 2914 N. Shoreline Blvd.
UID:e.1866.29985
SEQUENCE:3
DTSTAMP:20260424T022009Z
URL:http://chamber.unitedcorpuschristi.org/events/details/32nd-annual-stage-door-canteen-29985
END:VEVENT

END:VCALENDAR
