BEGIN:VCALENDAR
VERSION:2.0
PRODID:-//ChamberMaster//Event Calendar 2.0//EN
METHOD:PUBLISH
X-PUBLISHED-TTL:P3D
REFRESH-INTERVAL:P3D
CALSCALE:GREGORIAN
BEGIN:VEVENT
DTSTART:20251115T170000Z
DTEND:20251115T230000Z
X-MICROSOFT-CDO-ALLDAYEVENT:FALSE
SUMMARY:2nd Annual Viking Fest
DESCRIPTION:Del Mar College presents the 2nd Annual Viking Fest\n\n\n\nJoin us in a day of fun\, family-friendly festivities to learn about and celebrate what it means to be a Viking!  Admission is free and activities include:\n\n	Carnival Games \n	Inflatables\n	Food Trucks\n	Car Show\n	Welding Competition\n	Viking 5K \n	Live music featuring Kat Hasty
X-ALT-DESC;FMTTYPE=text/html:<span style="font-size:18px"><strong>Del Mar College presents the 2nd Annual Viking Fest</strong></span><br />\n<br />\n<span style="font-size:14px">Join us in a day of fun\, family-friendly festivities to learn about and celebrate what it means to be a Viking!&nbsp\; Admission is free and activities include:</span>\n<ul>\n	<li>Carnival Games&nbsp\;</li>\n	<li>Inflatables</li>\n	<li>Food Trucks</li>\n	<li>Car Show</li>\n	<li>Welding Competition</li>\n	<li>Viking 5K&nbsp\;</li>\n	<li>Live music featuring Kat Hasty</li>\n</ul>\n
LOCATION:Del Mar College Windward Campus 4101 Old Brownsville Road Corpus Christi TX 78405
UID:e.1866.30562
SEQUENCE:3
DTSTAMP:20260423T115941Z
URL:http://chamber.unitedcorpuschristi.org/events/details/2nd-annual-viking-fest-30562
END:VEVENT

END:VCALENDAR
