BEGIN:VCALENDAR
VERSION:2.0
PRODID:-//ChamberMaster//Event Calendar 2.0//EN
METHOD:PUBLISH
X-PUBLISHED-TTL:P3D
REFRESH-INTERVAL:P3D
CALSCALE:GREGORIAN
BEGIN:VEVENT
DTSTART:20251104T060000Z
DTEND:20251105T055500Z
X-MICROSOFT-CDO-ALLDAYEVENT:FALSE
SUMMARY:2025 Coastal Bend Day of Giving
DESCRIPTION:Join us on November 4th for Coastal Bend's biggest day of philanthropy\, the 17th annual Coastal Bend Day of Giving.  Administered through Coastal Bend Community Foundation\, the Coastal Bend Day of Giving is a 24-hour\, online matching gift program benefiting charities providing basic needs such as food\, shelter\, medical care\, childcare\, and at-risk youth programs.\n\n\n\nThis year\, 24 matching funders have pledged $1.6 million in matching funds\, offering donors the opportunity to make gifts that are DOUBLED\, up to $25\,400 for each of the 63 local participating charities.\n\n\n\nTo give to your favorite charity or charities visit CoastalBendDayofGiving.org and click DONATE NOW.  Gifts via credit/debit card or an electronic check are accepted using a shopping cart method to allow donations to multiple charities in one transaction.\n\n\n\nWith your help\, we can fight hunger\, support children\, improve health\, and reduce homelessness right here in the Coastal Bend.  Since inception\, over $36.6 million has been donated.
X-ALT-DESC;FMTTYPE=text/html:Join us on November 4th for Coastal Bend&#39\;s biggest day of philanthropy\, the 17th annual <em>Coastal Bend Day of Giving.&nbsp\;&nbsp\;</em>Administered through <em>Coastal Bend Community Foundation</em>\, the <em>Coastal Bend Day of Giving</em> is a 24-hour\, online matching gift program benefiting charities providing basic needs such as food\, shelter\, medical care\, childcare\, and at-risk youth programs.<br />\n<br />\nThis year\, 24 matching funders have pledged $1.6 million in matching funds\, offering donors the opportunity to make gifts that are DOUBLED\, up to $25\,400 for each of the 63 local participating charities.<br />\n<br />\nTo give to your favorite charity or charities visit <strong>CoastalBendDayofGiving.org</strong> and click <strong>DONATE NOW</strong>.&nbsp\; Gifts via credit/debit card or an electronic check are accepted using a shopping cart method to allow donations to multiple charities in one transaction.<br />\n<br />\nWith your help\, we can fight hunger\, support children\, improve health\, and reduce homelessness right here in the Coastal Bend.&nbsp\; Since inception\, over $36.6 million has been donated.
LOCATION:Online at https://www.CoastalBendDayofGiving.org
UID:e.1866.30258
SEQUENCE:3
DTSTAMP:20260423T132717Z
URL:http://chamber.unitedcorpuschristi.org/events/details/2025-coastal-bend-day-of-giving-30258
END:VEVENT

END:VCALENDAR
