BEGIN:VCALENDAR
VERSION:2.0
PRODID:-//ChamberMaster//Event Calendar 2.0//EN
METHOD:PUBLISH
X-PUBLISHED-TTL:P3D
REFRESH-INTERVAL:P3D
CALSCALE:GREGORIAN
BEGIN:VEVENT
DTSTART:20241122T220000Z
DTEND:20241123T010000Z
X-MICROSOFT-CDO-ALLDAYEVENT:FALSE
SUMMARY:1st Annual CTE Holiday Market
DESCRIPTION:1st Annual CTE Holiday Market Event on Friday\, November 22nd 4:00-7:00 pm!  Live music and performances will provide entertainment as you shop with our CCISD CTE students and their products.\n\n \n\nPlease use the link to sign up and support.  Support comes in all shapes & sizes & we are appreciative of it all!\n\nCCISD CTE Holiday Market-Partnership Sign Up\n\n\n\nCareer & Technology Education\n\nHoliday Market\n\nNovember 22\, 2024\n\nOpen from 4:00 pm - 7:00 pm\n\nHoliday Merchandise now available for purchase.\n\nALL ITEMS are MADE with LOVE by our CTE students.\n\nUNIQUE CHRISTMAS GIFTS - HANDCRAFTED ITEMS\n\nFESTIVE DECORATIONS\, BAKED GOODS\, AND MORE!\n\n\n\nFor more information please call: (361) 695-7470\n\nEVENT will take place at 2901 McArdle Road\, Corpus Christi\, TX 78416
X-ALT-DESC;FMTTYPE=text/html:<p class="x_MsoNormal" data-olk-copy-source="MessageBody" style="margin: 0in\; font-size: 12pt\; font-family: Aptos\, sans-serif\; color: rgb(36\, 36\, 36)\;">1<sup>st</sup>&nbsp\;Annual CTE Holiday Market Event on Friday\, November 22<sup>nd</sup>&nbsp\;4:00-7:00 pm!&nbsp\; Live music and performances will provide entertainment as you shop with our CCISD CTE students and their products.</p>\n\n<p aria-hidden="true" class="x_MsoNormal" style="margin: 0in\; font-size: 12pt\; font-family: Aptos\, sans-serif\; color: rgb(36\, 36\, 36)\;">&nbsp\;</p>\n\n<p class="x_MsoNormal" style="margin: 0in\; font-size: 12pt\; font-family: Aptos\, sans-serif\; color: rgb(36\, 36\, 36)\;"><b>Please use the link to sign up and support.</b>&nbsp\; Support comes in all shapes &amp\; sizes &amp\; we are appreciative of it all!</p>\n\n<p class="x_MsoNormal" style="margin: 0in\; font-size: 12pt\; font-family: Aptos\, sans-serif\; color: rgb(36\, 36\, 36)\;"><a data-auth="NotApplicable" data-linkindex="0" href="https://docs.google.com/forms/d/e/1FAIpQLSdQcH41f6mKvuXSinf9eoJXHMZ1M3tbx6UJYXTeDcf9L4K_Qg/viewform?usp=sf_link" style="border: 0px\; font: inherit\; margin: 0px\; padding: 0px\; vertical-align: baseline\; color: rgb(70\, 120\, 134)\;" title="https://docs.google.com/forms/d/e/1FAIpQLSdQcH41f6mKvuXSinf9eoJXHMZ1M3tbx6UJYXTeDcf9L4K_Qg/viewform?usp=sf_link">CCISD CTE Holiday Market-Partnership Sign Up</a></p>\n\n<p><br />\n<span style="font-size:18px\;">Career &amp\; Technology Education</span><br />\n<span style="font-size:24px\;">Holiday Market<br />\nNovember 22\, 2024<br />\nOpen from 4:00 pm - 7:00 pm</span><br />\nHoliday Merchandise now available for purchase.<br />\nALL ITEMS are MADE with LOVE by our CTE students.<br />\nUNIQUE CHRISTMAS GIFTS - HANDCRAFTED ITEMS<br />\nFESTIVE DECORATIONS\, BAKED GOODS\, AND MORE!<br />\n<br />\nFor more information please call: (361) 695-7470<br />\nEVENT will take place at 2901 McArdle Road\, Corpus Christi\, TX 78416</p>\n
LOCATION:Cunningham Middle School at South Park 2901 McArdle\, TX 78416
UID:e.1866.29921
SEQUENCE:3
DTSTAMP:20260424T053649Z
URL:http://chamber.unitedcorpuschristi.org/events/details/1st-annual-cte-holiday-market-29921
END:VEVENT

END:VCALENDAR
