BEGIN:VCALENDAR
VERSION:2.0
PRODID:-//ChamberMaster//Event Calendar 2.0//EN
METHOD:PUBLISH
X-PUBLISHED-TTL:P3D
REFRESH-INTERVAL:P3D
CALSCALE:GREGORIAN
BEGIN:VEVENT
DTSTART:20251121T110000Z
DTEND:20251121T140000Z
X-MICROSOFT-CDO-ALLDAYEVENT:FALSE
SUMMARY:19th Annual Islander Lights: Powered by AEP Texas
DESCRIPTION:Celebrate the holiday season during Texas A&M University-Corpus Christi's 18th Annual Islander Lights: Powered by AEP Texas\, Friday\, Nov. 21\, from 5-8 p.m. at the Island University\, 6300 Ocean Dr.\n\n\n\nAll Islanders\, along with the community\, are invited to ring the happiest time of the year with Santa\, food\, fun and much more\, including the annual Lighting Ceremony in Lee Plaza and the Arts and Crafts Market.\n\n\n\nAdmission is free. All are encouraged to bring a toy donation to benefit Toys for Tots. The Islander Lights celebration is followed by the Sounds of the Season Holiday Concert. Concert tickets start at $5. For more information\, visit islanderlights.tamucc.edu.\n\n\n\nSponsored by AEP Texas\, HEB\, and SSC Services for Education.
X-ALT-DESC;FMTTYPE=text/html:Celebrate the holiday season during Texas A&amp\;M University-Corpus Christi&rsquo\;s 18th Annual Islander Lights: Powered by AEP Texas\, Friday\, Nov. 21\, from 5-8 p.m. at the Island University\, 6300 Ocean Dr.<br />\n<br />\nAll Islanders\, along with the community\, are invited to ring the happiest time of the year with Santa\, food\, fun and much more\, including the annual Lighting Ceremony in Lee Plaza and the Arts and Crafts Market.<br />\n<br />\nAdmission is free. All are encouraged to bring a toy donation to benefit Toys for Tots. The Islander Lights celebration is followed by the Sounds of the Season Holiday Concert. Concert tickets start at $5. For more information\, visit <a href="http://islanderlights.tamucc.edu">islanderlights.tamucc.edu</a>.<br />\n<br />\nSponsored by AEP Texas\, HEB\, and SSC Services for Education.
LOCATION:Texas A&M University-Corpus Christi
UID:e.1866.30560
SEQUENCE:3
DTSTAMP:20260423T120020Z
URL:http://chamber.unitedcorpuschristi.org/events/details/19th-annual-islander-lights-powered-by-aep-texas-30560
END:VEVENT

END:VCALENDAR
